{"text_format":"1","workbook":"xlsx","n_sheets":11,"sheets":["申込について（選手必読）","大会要項（富山県用要項）","各団体(個人）申込書記入例(必読)","男子ﾃﾞｰﾀ貼付ｼｰﾄ","【様式1-1】男子団体（個人）申込書","女子ﾃﾞｰﾀ貼付ｼｰﾄ","【様式1-2】女子申込書","【様式5-1】宿泊要項","【様式5-2】宿泊申込書","【様式5-3】領収書依頼書","【様式5-4】ホテルリスト富山編 "],"not_rendered":{"charts":0,"images":3,"macros":1,"external_links":1,"defined_names":16,"comments":4,"pivot_tables":0},"unopened":[],"bounds":{"document_bytes":16777216,"sheet_cells":100000,"rows_first":2000,"rows_last":500,"rows_between":2000,"halvings":0,"cell_chars":16384,"cell_head_chars":4096},"cells_cut":0,"cells_raw":0,"read":"whole","date_system":"1900"}

{"sheet":"申込について（選手必読）","index":0,"n_rows":84,"n_cols":11,"rows_kept":84,"cut":false,"hidden":false,"merged":[[0,0,0,18],[2,0,2,18],[4,0,4,18],[5,0,5,18],[20,1,20,3],[20,4,20,9],[20,10,20,17],[27,1,27,3],[21,1,21,3],[21,10,21,17],[22,1,22,3],[22,10,22,17],[23,1,23,3],[23,10,23,17],[24,1,24,3],[24,10,24,17],[25,1,25,3],[26,1,26,3],[26,10,26,17],[54,3,55,18],[28,1,28,3],[28,4,28,9],[28,10,28,17],[29,1,29,3],[29,4,29,9],[29,10,29,17]]}
["令和３年６月３０日"]
[]
["第65回北陸陸上競技選手権大会の申込要領"]
[]
["　　　　　　　　　　　　　　　　　　　　　　　　　　　　　　（一財）富山陸上競技協会"]
["事務局"]
[]
["１　関係資料の入手"]
[null,"次のファイルを　富山陸協HPよりダウンロードして、必要事項を入力して下さい。"]
[null,"（１）　ファイル名　：　「2021北陸選手権要項（富山県選手用）」　"]
[null,"この申込ファイルはマクロを含んでいます。以下の警告が出た場合は、「コンテンツの有効化」をクリックしてください。"]
[]
[]
[]
[]
[]
[]
[null,"その他に、「他のデータベースにリンクしています。。。」とのメッセージで、ボタンが表示された場合、"]
[null,"「更新しない」を選択してください。"]
[null,"（２）　ファイル内のワークシート"]
[null,"様式No.",null,null,"シート名",null,null,null,null,null,"内容"]
[null,"－",null,null,"申込みについて（選手必読）",null,null,null,null,null,"申込要領について詳細記述　（本書）"]
[null,"－",null,null,"大会要項（各県配布用）",null,null,null,null,null,"大会概要を示すもの"]
[null,"－",null,null,"各団体（個人）申込書記入例（必読）",null,null,null,null,null,"記載例を読んで、手順を必ず確認して下さい"]
[null,"－",null,null,"男子ﾃﾞｰﾀ貼付ｼｰﾄ",null,null,null,null,null,"JAAF登録ﾃﾞｰﾀの貼付･申込書への反映"]
["①","【様式1-1】",null,null,"各団体(個人)申込書（男子）",null,null,null,null,null,"男子申込書　※学校長出場認知書を兼ねる"]
[null,"－",null,null,"女子ﾃﾞｰﾀ貼付ｼｰﾄ",null,null,null,null,null,"JAAF登録ﾃﾞｰﾀの貼付･申込書への反映"]
["②","【様式1-2】",null,null,"各団体(個人)申込書（女子）",null,null,null,null,null,"女子申込書　※学校長出場認知書を兼ねる"]
["③","【様式5-1.2,3,4】",null,null,"宿泊要項・宿泊申込書\n領収書依頼書・ホテルリスト",null,null,null,null,null,"旅行業者へ直接申し込みお願いします"]
[]
["２　申込用紙（【様式1-1】、【様式1-2】）の作成と提出方法"]
[null,"（１）　作成者"]
[null,null,null,"団体の場合：団体の代表者"]
[null,null,null,"個人の場合：選手本人"]
[null,"（２）　入力"]
[null,null,null,"「各団体（個人）申込書記入例（必読）」に従って入力する。"]
[null,null,null,"①JAAFからの選手データをCSVファイルとして取り出す。（必要な範囲を確認する)"]
[null,null,null,"②その内容を、男子（女子）ﾃﾞｰﾀ貼付ｼｰﾄに張りつけ、上部ﾎﾞﾀﾝを押す。"]
[null,null,null,"　※　氏名等は、そのままプログラムに反映されます。"]
[null,null,null,"　　　間違いが無いよう確認して下さい。"]
[null,null,null,"③参加種目を設定する。"]
[null,null,null,null,"（参加種目のセルをクリックすると、▼ボタンが表示されます。表示種目を選択する）"]
[null,null,null,"④記録（公認）から備考までの内容を入力します。"]
[null,null,null,"⑤ページ下部の内容に入力・印刷し、所属長印を押したものを事務局へ郵送する。"]
[]
[null,"（３）　入力後の保存、ファイル名の変更"]
[null,null,null,"陸協に送信する時に、ファイル名は下記のように変えて下さい。"]
[null,null,null,"　団体の場合：2021北陸選手権（〇〇高校）←　チーム名が分かるように。"]
[null,null,null,"　個人の場合：2021北陸選手権（トヤマ　イチロウ）←　個人名をフルネームで。"]
[null,"（４）　申込み"]
[null,null,null,"下記のことを完了することで申込を受け付けます。"]
[null,null,null,"①　各団体(個人)申込書【様式１】をメールに貼付して送付する。　"]
[null,null,null,"②　各団体(個人)申込書【様式１】をプリントアウトし、押印の上、郵送する。　"]
[null,null,null,"③　参加料を振り込む。"]
[null,null,null,"※　メール送付と申込書郵送は、７月２２日（木）１７：００　必着とします。\n　　参加料の振込は、７月２０日（火）１５：００　までとなります。\n　　間違えることのないように、日時を確認の上、手続きをして下さい。"]
[]
[]
["◆　上記２については、申込み団体、個人の作成上の注意事項です。要項の申込み方法にも記載しています。"]
[]
["３　書類及びデータ提出先について"]
[]
[null,"＜提出書類＞　〒９３９－８２３４　富山市南中田３６８番地　富山県総合運動公園陸上競技場内"]
[null,"　　　　　　　　（一財）富山陸上競技協会　事務局"]
[]
[null,"＜送信データ＞",null,null,"E-mail：taikai0825@yahoo.co.jp"]
[]
[null,null,null,"※　メール送付と申込書郵送は、７月２２日（木）１７：００　必着とします。"]
[]
["４　振込先について"]
[null,null,null,"振 込 先：北陸銀行　YKK支店"]
[null,null,null,"口 座 名：北陸陸上競技大会事務局"]
[null,null,null,"口座番号：５０２２５４０（普通）"]
[null,null,null,"※振込の際は、団体名を、個人の場合は氏名（フルネーム）を明記して下さい。"]
[null,"　　　　　　７月２０日（火）１５：００までに手続きをお願いします。（必須）"]
[]
["５　③の【様式5-1,2,3】については、７月７日（水）から２９日（木）までに各団体・個人で"]
[null,"旅行業者へ申し込んで下さい。"]
[]
["【エントリーに関する問い合わせ先】"]
[]
["（一財）富山陸上競技協会"]
[]
[null,"E-mail：taikai0825@yahoo.co.jp"]
[null,"※お願い　要項を確認の上、書類は事務局へ郵送又は持参願います。FAXは不可とします。"]

{"sheet":"大会要項（富山県用要項）","index":1,"n_rows":120,"n_cols":15,"rows_kept":120,"cut":false,"hidden":false,"merged":[[0,0,0,14],[1,0,1,14],[38,2,39,15],[111,5,111,6],[111,7,111,8],[81,3,81,4],[81,5,81,13],[51,2,52,15],[58,2,59,15],[61,2,62,15],[112,5,112,6],[112,7,112,8],[108,5,108,6],[108,7,108,8],[109,5,109,6],[109,7,109,8],[110,5,110,6],[110,7,110,8]]}
["第６５回 北 陸 陸 上 競 技 選 手 権 大 会 要 項(案)"]
["兼 第１０６回日本陸上競技選手権大会北陸地域予選会"]
[]
[]
[null,null,"※新型コロナウイルスの対応策について"]
[null,null,"　　本協会主催大会では、日本陸協競技連盟の「陸上競技活動再開についてのガイダンス」に"]
[null,null,"　準拠し競技会運営を行います。大会参加者の皆様は、感染症対策を徹底したうえでのご参加を"]
[null,null,"　お願い致します。"]
[null,null,"　　また、今後の感染状況によっては大会要項等を変更する可能性がありますので、予めご了承"]
[null,null,"　ください。"]
[null,null,"　　尚、大会に関する最新情報は随時「富山陸上競技協会ＨＰ」に掲載いたしますので、ご確認"]
[null,null,"　をお願い致します"]
[]
[]
["１主　　催",null,"北陸陸上競技協会"]
[]
["２後　　援",null,"富山県　富山県教育委員会　(公財)富山県体育協会　各県高等学校体育連盟"]
[]
["３主　　管",null,"(一財)富山陸上競技協会"]
[]
["４期　　日",null,"令和３年８月２１日（土）９時００分：競技開始　　２２日（日）９時００分：競技開始"]
[]
["５会　　場",null,"富山県総合運動公園陸上競技場（〒919－8027　富山市南中田368　電話076-429-8835）"]
[]
["６競技種目",null,"男子　８月２１日（土）２００ｍ、８００ｍ、５０００ｍ、４００ｍＨ，３０００ｍＳＣ、５０００ｍＷ，４×１００ｍＲ"]
["　・実施日",null,"　　　（１２種目）　　棒高跳、走幅跳、ハンマー投、やり投、十種競技（第一日目）"]
[null,null,"　　　８月２２日（日）１００ｍ、４００ｍ、１５００ｍ、１００００ｍ、１１０ｍＨ、４×４００ｍＲ"]
[null,null,"　　　（１１種目）　　走高跳、三段跳、砲丸投、円盤投、十種競技（第二日目）"]
[null,null,"女子　８月２１日（土）２００ｍ、８００ｍ、５０００ｍ、４００ｍＨ、３０００ｍＳＣ、５０００ｍＷ，４×１００ｍＲ"]
[null,null,"　　　（１２種目）　　走高跳、三段跳、円盤投、やり投、七種競技（第一日目）"]
[null,null,"　　　８月２２日（日）１００ｍ、４００ｍ、１５００ｍ、１００００ｍ、１００ｍＨ、４×４００ｍＲ"]
[null,null,"　　　（１１種目）　　棒高跳、走幅跳、砲丸投、ハンマー投、七種競技（第二日目）"]
[]
["７競技規則",null,"２０２１年度日本陸上競技連盟競技規則および本大会申し合わせ事項による。"]
[]
["８表　　彰",null,"（１）各種目優勝者には選手権賞を、また第３位までに賞状を贈る。"]
[null,null,"（２）男女各１名に優秀選手賞を贈る。"]
[]
["９出場資格",null,"２０２１年度日本陸上競技連盟登録者で、下記に該当する競技者。但し、本連盟の登録者であっても、正式参加資格は、日本国籍を有する競技者のみとし、外国籍を有する競技者は順位の対象にならないオープン参加とする。"]
[]
[null,null,"（１）第63回富山県選手権大会(2021/5/3,4)の８位までの入賞者"]
[null,null,"（２）標準記録を突破した競技者（2020年１月１日～申込締切日まで）"]
[null,null,"（３）標準記録のない種目は、各県が推薦する競技者で各県記録上位者より８名以内とする。"]
[null,null,"　　　混成競技は、記録上位者より各県４名以内とする。"]
[null,null,"（４）規格外の競技種目の場合については、参加標準記録を参考にして各県陸協が推薦する競技者（該当競技種目で３名以内）"]
[null,null,"　　　該当種目は、男子１１０ｍＨ、女子１００ｍＨ、男女５０００ｍＷ、投てき種目とする（中学生対象）"]
[]
["10参 加 料",null,"一般は１種目２,０００円、・高校生は１種目１,５００円、中学生は１種目１,０００円、混成・リレーは３,０００円"]
[null,null,"※　ただし、高校生が混成に出場する場合は３，０００円とする。"]
[null,null,"※　混成競技に申し込んだ個人およびチームは、出場の可否を事務局から連絡をするので、確認後に振り込むこと。　"]
[]
[null,null,"＜振込先＞　・北陸銀行　YKK支店　普通預金　口座番号　５０２２５４０　口座名　北陸陸上競技大会事務局\n　　　　　　　７月２０日（火）１５：００まで\n　　　　　　　　※振込の際は、団体名を、個人の場合は氏名（フルネーム）を明記して下さい"]
[]
[]
["11申込み方法",null,"　　①　メールまたはメディアで所属陸協にデータ(上記エクセルデータ)を送る。"]
[null,null,"　　②　①のデータ(エクセルファイル)から一覧表を印刷して所属長印を押印したものを所属陸協に郵送する。"]
[null,null,"※　必要事項を入力して、所属陸協指定の期日までに、下記のとおりデータと書面で申し込むこと。"]
[null,null,"　　特に、ハンマー投に出場の選手は左右どちら利きか、必ず記入すること。"]
[null,null,"　　・(一財)富山陸上競技協会ＨＰ(http://jaaf-toyama.net）より、以下のエクセルファイル\n　　　　「2021北陸選手権要項（富山県選手用）」をダウンロードし、下記の通りデータと書類で申込むこと。\n＜締め切り＞\n　　・令和３年７月２２日(木)１７：００　必着（データ、書類、参加料納入、全て）"]
[]
[]
["12各県申込先",null,"＜書類郵送先＞　〒９３９－８２３４　富山市南中田３６８番地　富山県総合運動公園陸上競技場内\n　　　　　　　　　　　　　　　　　　（一財）富山陸上競技協会　事務局\n＜データ送信先＞　taikai0825@yahoo.co.jp\n　　　　　　　　　　　　　　　　　　　　　　※書類・データ・参加料全てこの要項に基づいて扱うこと。"]
[]
[]
["13標準記録",null," 種 目 ","100ｍ","200ｍ","400ｍ","800ｍ","1500ｍ","5000ｍ","10000ｍ","100ｍH","110ｍH","400ｍH","3000ｍSC","5000ｍW"]
[null,null," 男 子 ","11\"00","22\"50","50\"80","2'00\"00","4'09\"00","15'40\"00","33'30\"00","×","15\"50","56\"10","10'00\"00","25'00\"00"]
[null,null," 女 子 ","12\"60","26\"10","59\"80","2'21\"00","4'55\"00","18'30\"00","38'00\"00","15\"20","×","1'04\"50","－","28'00\"00"]
[]
[null,null," 種 目 ","走高跳","棒高跳","走幅跳","三段跳","砲丸投","円盤投","ﾊﾝﾏｰ投","やり投"]
[null,null," 男 子 ","1ｍ90","4ｍ00","6ｍ80","13ｍ90","11ｍ25","36ｍ00","41ｍ00","53ｍ00",null,"×は、競技がありません"]
[null,null," 女 子 ","1ｍ55","2ｍ80","5ｍ35","10ｍ70","10ｍ00","32ｍ00","30ｍ00","35ｍ00",null,"―は、標準記録がありません"]
[]
["14競技開始",null,"競技開始時のバーの高さ（参加者レベル、当日の天候などにより若干変更することがある）"]
[null,null,"男子　走高跳（練習1ｍ75、競技1ｍ80、混成1ｍ60）、棒高跳（練習3ｍ60、競技3ｍ80、混成2ｍ50）"]
[null,null,"女子　走高跳（練習1ｍ45、競技1ｍ50、混成1ｍ35）、棒高跳（練習2ｍ20、競技2ｍ40）"]
[]
["15宿泊昼食",null,"後日、富山陸上競技協会ホームページに宿泊要項を掲載します。希望者は、宿泊要項に基づいて申し込みを行うこと。"]
[]
["16そ の 他",null,"（１）アスリートビブス（ﾅﾝﾊﾞｰｶｰﾄﾞ）は主催者で作成し、会場受付でプログラムと共に配布する。"]
[null,null,"（２）本大会は、トラック種目のラウンドについて以下のように設定する。参加人数によって、準決勝を設定する場合もある。"]
[]
[null,null,null,"ラウンド",null,"　　　種　　　　目"]
[null,null,null," ①予選、決勝",null," 100m、200m、400m、800m、110mH、100mH、400mH、4×100mR、4×400mR"]
[null,null,null," ②ﾀｲﾑﾚｰｽ決勝",null," 1500m、5000m、10000m、3000mSC、5000mW"]
[]
[null,null,"（３）棒高跳びのポールは、上記会場へ送付すること。"]
[null,null,"（４）前日の練習時間：１２時３０分～１７時までとする。（練習時間帯は、富山陸上競技協会ホームページで案内をする）"]
[null,null,"（５）受付：前日は１２時から１６時３０分まで、当日は７時００分から行う。（場所：競技場１Ｆコンコースで県別）"]
[null,null,"（６）競技中に発生した疾病・傷害については、応急処置を主催側で行うが、以後の責任は負わない。"]
[null,null,"（７）個人情報の取り扱いについては、大会出場中の映像、写真、記事、記録等のテレビ、新聞、インターネット等"]
[null,null,"　　　の掲載権は主催側に属する。主催者は、個人情報保護法を厳守し、参加者の個人情報を取り扱う。"]
[null,null,"（８）本大会は、ワールドランキング制度に対応するため、申込書類記入の際、氏名のふりがなのアルファベット表記"]
[null,null,"　　　（ヘボン式）や西暦の生年月日の記入等に留意すること。"]
[null,null,"（９）競技用靴については、ＴＲ５．１３．３の表に基づき、検査・確認を行う。"]
[null,null,"　　　これについては、日本陸連Webページの競技運営委員会、「シューズ規則に関して」を参照のこと。"]
[null,null,null,"（https://www.jaaf.or.jp/about/resist/technical/shoes/）"]
[null,null,"（10）申込みは、選手が登録している県協会に申し込むこと。他県の協会に申し込んだ場合受け付けられない。"]
[null,null,"（11）宿泊については、７月７日（火）以降に申し込むこと。"]
[null,null,"（12) 自然災害（台風等）により大会が開催できない場合は、富山陸上競技協会のホームページにて案内する。"]
[null,null,"　　　参加料は返金しない。"]
[null,null,"（13）新型コロナウイルス感染拡大防止の観点から大会を中止・延期する場合は、富山陸上競技協会のホームページにて  "]
[null,null,"　　　案内する。　"]
[null,null,"　　　大会を中止する場合は、７月７日（火）までにホームページに掲載する。参加料は返金する予定である。"]
[null,null,"（14）参加者（個人・団体）は、各自で衣類運搬用のビニール袋もしくはバッグを用意すること。"]
[null,null,"（15）本競技会は、無観客で開催するため、競技場内に入る場合には、ＩＤカードが必要です。"]
[null,null,"　　　（発行枚数については、下記の表を確認ください）"]
[null,null,null,"※ＩＤカードの発行枚数について"]
[]
[null,null,null,null,null,"参加選手数",null,"発行枚数",null,"※追加発行はできません。"]
[null,null,null,null,null,"１～２名　",null,"２枚"]
[null,null,null,null,null,"３～６名　",null,"３枚"]
[null,null,null,null,null,"７～１５名",null,"４枚"]
[null,null,null,null,null,"１６名～　",null,"５枚"]
[]
[null,null,"（16）参加の出入口（場所）、更衣場所等に制限があるので、要項、プログラム等で確認すること。"]
[null,null,"（17）混成競技における選手控室は、本大会では設けない。種目ごとに第２ゲート招集所にて招集を行い、"]
[null,null,"　　　競技役員の誘導で競技場所へ移動する。"]
[null,null,"（18）競技注意事項や競技日程、競技用具等は、富山陸上競技協会のホームページに掲載する。"]
[]
[null,null,null,"※富山陸上競技協会のホームページ(http://www.jaaf-toyama.net/)"]

{"sheet":"各団体(個人）申込書記入例(必読)","index":2,"n_rows":81,"n_cols":24,"rows_kept":81,"cut":false,"hidden":false,"merged":[[71,9,71,10],[69,9,69,10],[68,9,68,10],[67,9,67,10],[70,9,70,10],[50,0,51,0],[50,1,50,2],[50,3,51,3],[50,4,50,5],[50,6,51,6],[50,16,50,20],[50,21,51,21],[62,14,62,15],[47,3,47,10],[47,17,47,20],[48,4,48,15],[50,7,51,7],[50,9,51,9],[64,14,64,15],[66,14,66,15],[68,14,68,15],[70,14,70,15],[50,11,51,11],[50,12,50,15],[80,3,80,8],[75,15,75,18],[76,15,76,18],[77,3,77,5],[78,3,78,8],[79,3,79,8]]}
["競技会参加申込の入力方法"]
[]
[null,"０．","この申込ファイルはマクロを含んでいます。以下の警告が出た場合は、「コンテンツの有効化」をクリックしてください。"]
[]
[]
[]
[]
[]
[]
[]
[null,"１．","「JAAF START」 のページにおいて、「閲覧」 メニューの 「生徒情報確認/変更」 から 「CSVS(新形式2018以降)作成」 をクリックし、CSVファイルを作成する。（一般・学生もこの流れに準ずる）"]
[null,null,"作成したCSVデータを貼り付ける。その際、男子のデータは 「男子ﾃﾞｰﾀ貼付ｼｰﾄ」 に、女子のデータは 「女子ﾃﾞｰﾀ貼付ｼｰﾄ」 に貼り付ける。"]
[null,null,"「都道府県(学連)登録番号」 (もしくはＡ列) が昇順になるように並べ替える。 ( 「ナンバー順に並び替え」 ボタンで並び替えてください。)"]
[]
[]
[]
[]
[]
[]
[]
["↓",null,null,null,null,"↓","(氏名で五十音順に並んでいる状態から、登録ナンバーで昇順になるように)",null,null,null,null,null,null,null,null,null,null,null,null,"↓"]
[]
[]
[]
[]
[]
[]
[]
[null,"２．","「 【様式1-1】男子申込書」 「 【様式1-2】女子申込書」 のそれぞれに、所属名・学校名、記載責任者、電話番号などを記入する。"]
[null,null,"所属については、「 ○○大 」、「 ○○高 」 などのように、校種区分が分かるようにしておくこと。"]
[]
[null,"３．","登録ナンバーを｢県ナンバー｣列に記入する。そうすると、その右側に氏名から国籍まで、登録情報が自動入力されます。"]
[null,null,"「 県ナンバー 」 は各県で使用しているナンバーを記入する。 「 北ナンバー 」 は空欄にしておくこと。"]
[null,null,"なお、氏名以下を直接手入力するは、苗字と名前の間は全角文字1つ分のスペースを入れておくこと。"]
[null,null,"　　　　　　　　　　　　　　　　ﾌﾘｶﾞﾅについて、半角ｶﾀｶﾅ、ｱﾙﾌｧﾍﾞｯﾄともに半角文字で入力し、姓名の間は半角文字1つ分のスペースを入力。"]
[null,null,"　　　　　　　　　　　　　　　　さらにｱﾙﾌｧﾍﾞｯﾄについては姓は全て大文字、名は最初の１文字のみ大文字で他は小文字で入力し、"]
[null,null,"　　　　　　　　　　　　　　　　数字は半角で記入。生年月日の欄は西暦8桁を記入すること。"]
[]
[null,"４．","種目はリストから選択すること。（種目のセルにポインタを合わせると、プルダウンメニューで表示されます）"]
[]
[null,"５．","記録は分・秒、小数点、ｍ (ﾒｰﾄﾙ) は省略する。　　　11\"45→1145　　　4'28\"35→42835　　　11'35\"6→113560　　　1m45→145　　　48m32→4832　など"]
[]
[null,"６．","標準記録突破者は、自己最高記録の欄のみ記入。"]
[null,null,"ハンマーの左投げ、ハードル・投擲の規格外の記録、陸協推薦　に該当する場合は、「備考」 欄のリストから選んで入力すること。",null,null,null,null,null,null,null,null,null,null,null,null,null,null,null,null,null,null,null,null,"※規格外は、高さと重さの違い"]
[null,null,null,null,null,null,null,null,null,null,null,null,null,null,null,null,null,null,null,null,null,null,null,"　ジュニア種目（ユース等）、中学生など"]
[]
["＜記入例＞"]
["大会名",null,null,"第６５回北陸地域陸上競技選手権大会",null,null,null,null,null,null,null,null,null,null,null,null,null,"参加申込一覧表（ 男子 ）"]
["所属学校・団体名 ",null,null,null,"富山陸上高"]
[]
[null,"ﾅﾝﾊﾞｰ",null,"氏　名","ﾌﾘｶﾞﾅ",null,"性別","学年","生年月日","所属","登録","国籍","各県選手権決勝の記録・順位",null,null,null,"有効期間内の自己最高記録（標準突破記録の記載を含む）",null,null,null,null,"備考"]
[null,"北","県",null,"半角ｶﾀｶﾅ","半角ｱﾙﾌｧﾍﾞｯﾄ",null,null,"西暦8桁の数字",null,"都道府県",null,"種目","記録","順位","年月(4桁)","記録","順位","年月(4桁)","大会名","場所"]
[1,null,1,"富山　一郎","ﾄﾔﾏ ｲﾁﾛｳ","TOYAMA Ichiro","男",3,20030501,"富山陸上高","富山県","JPN 日本","100m",1097,7,2105,1089,4,2007,"県体一部","富山総合"]
[2,null,1,"富山　一郎","ﾄﾔﾏ ｲﾁﾛｳ","TOYAMA Ichiro","男",3,20030501,"富山陸上高","富山県","JPN 日本","200m",null,null,null,2249,5,2007,"TOYAMA2020","富山総合"]
[3,null,2,"立山　二郎","ﾀﾃﾔﾏ ｼﾞﾛｳ","TATEYAMA Jiro","男",3,20030502,"富山陸上高","富山県","JPN 日本","走高跳",207,3,2105,210,1,2007,"TOYAMA2020","富山総合"]
[4,null,2,"立山　二郎","ﾀﾃﾔﾏ ｼﾞﾛｳ","TATEYAMA Jiro","男",3,20030502,"富山陸上高","富山県","JPN 日本","三段跳",1421,5,2105,1486,2,2010,"北信越新人","福井"]
[5,null,3,"神通　三郎","ｼﾞﾝﾂﾞｳ ｻﾌﾞﾛｳ","JINZU Saburo","男",2,20040503,"富山陸上高","富山県","JPN 日本","ハンマー投",3532,8,2105,3842,10,2010,"第２回記録会","富山総合","ﾊﾝﾏｰ左投"]
[6,null,3,"神通　三郎","ｼﾞﾝﾂﾞｳ ｻﾌﾞﾛｳ","JINZU Saburo","男",2,20040503,"富山陸上高","富山県","JPN 日本","砲丸投",1030,7,2105,1042,3,1906,"第２回記録会","富山総合"]
[7,null,4,"高岡　四郎","ﾀｶｵｶ ｼﾛｳ","TAKAOKA Shiro","男",1,20050504,"富山陸上高","富山県","JPN 日本","110mH",null,null,null,1602,1,1907,"通信陸上","ビッグスワン","規格外"]
[8,null,4,"高岡　四郎","ﾀｶｵｶ ｼﾛｳ","TAKAOKA Shiro","男",1,20050204,"富山陸上高","富山県","JPN 日本","400mH",5221,8,2105,5221,8,2105,"富山県選手権","富山総合"]
[9,null,5,"常願寺　五郎","ｼﾞｮｳｶﾞﾝｼﾞｺﾞ ﾛｳ","JYOGANJI Goro","男",2,20050305,"富山陸上高","富山県","JPN 日本","10種競技",null,null,null,5000,10,2009,"全国高校陸上混成","広島","陸協推薦"]
[]
["※記入方法について",null,null,null,null,null,null,null,null,null,null,null,null,"一般",2000,null,null,"（種目）",null,{"$f":"Q63*O63","v":0}]
["１．ナンバーの県欄には、各県登録ナンバーを入力する。",null,null,null,null,null,null,null,null,"※ＩＤカードの発行枚数について"]
["　　北ナンバーは、各県陸協で割り振るので入力しない。",null,null,null,null,null,null,null,null,"監督・コーチ(ﾏﾈｰｼﾞｬｰ含む)について",null,null,null,"高校生",1500,null,8,"（種目）",null,{"$f":"Q65*O65","v":12000}]
["２．自己最高記録は2020.1.1～大会申込締切までの最高記録を記入",null,null,null,null,null,null,null,null,"以下のように配布します。"]
[null," 標準記録突破者は、この欄に記入する。",null,null,null,null,null,null,null,null,null,null,null,"中学生",1000,null,null,"（種目）",null,{"$f":"Q67*O67","v":0}]
["３．種目の年、月は記録を出した年を西暦下二けた(20or21)と月の４桁で記入",null,null,null,null,null,null,null,null,"参加選手数",null,"発行枚数"]
["４．不足する場合は、27行と48行の間の行を再表示してください。",null,null,null,null,null,null,null,null,"１～２名　",null,"２枚",null,"混成",3000,null,1,"（種目）",null,{"$f":"Q69*O69","v":3000}]
["　　それでも足りない場合は、行をコピーして挿入してください。",null,null,null,null,null,null,null,null,"３～６名　",null,"３枚",null,"　"]
["５．申込書記入例を参考に種目等を記入してください。","個人情報保護について",null,null,null,null,null,null,null,"　７名～１５名",null,"４枚",null,"リレー",3000,null,null,"（種目）",null,{"$f":"Q71*O71","v":0}]
["※","ここに書かれている内容については本大会の運営だけに利用し、",null,null,null,null,null,null,null,"１６名～　",null,"５枚"]
[null,"その他、外部への情報供与は一切行いません。",null,null,null,null,null,null,null,null,null,null,null,null,null,"合計",null,null,"合計",{"$f":"T63+T65+T67+T69+T71","v":15000}]
[]
[null,"所属団体",null,null,null,null,null,null,null,null,null,null,null,null,"記載責任者（携帯電話番号）"]
[null,null,null,null,null,null,null,null,null,null,null,null,null,null,"氏名"]
[null,null,null,null,null,null,null,null,null,null,null,null,null,null,"（","　　",null,null,null,null,"）"]
[null,"住所","〒"]
[null,null,null,null,null,null,null,null,null,null,null,null,null,null,"学校の場合は、学校長出場承認印"]
[null,"電話"]
[null,"FAX",null,null,null,null,null,null,null,null,null,null,null,null,null,null,null,null,null,null,"印"]

{"sheet":"男子ﾃﾞｰﾀ貼付ｼｰﾄ","index":3,"n_rows":201,"n_cols":24,"rows_kept":201,"cut":false,"hidden":false,"merged":[[1,0,1,2]]}
[]
["↓この3列には貼り付けないで！↓",null,null,"JAAF ID","会員名","会員名\nカナ","会員名\n英字(姓)","会員名\n英字(名)","国籍","性\n別","登録都道\n府県コード","登録都道府県名","団体ID","団体名","団体名\nカナ","団体名\n略称","団体名\n略称カナ","生年月日","都道府県(学連)登録番号","旧団体\nコード","備考","学年","団体\n区分","陸連団体"]
[{"$f":"IF(S3=\"\",\"\",S3)","v":""},{"$f":"IF(F3=\"\",\"\",ASC(F3))","v":""},{"$f":"IF(G3=\"\",\"\",G3&\" \"&H3)","v":""}]
["","",""]
["","",""]
["","",""]
["","",""]
["","",""]
["","",""]
["","",""]
["","",""]
["","",""]
["","",""]
["","",""]
["","",""]
["","",""]
["","",""]
["","",""]
["","",""]
["","",""]
["","",""]
["","",""]
["","",""]
["","",""]
["","",""]
["","",""]
["","",""]
["","",""]
["","",""]
["","",""]
["","",""]
["","",""]
["","",""]
["","",""]
[{"$f":"IF(S35=\"\",\"\",S35)","v":""},{"$f":"IF(F35=\"\",\"\",ASC(F35))","v":""},{"$f":"IF(G35=\"\",\"\",G35&\" \"&H35)","v":""}]
["","",""]
["","",""]
["","",""]
["","",""]
["","",""]
["","",""]
["","",""]
["","",""]
["","",""]
["","",""]
["","",""]
["","",""]
["","",""]
["","",""]
["","",""]
["","",""]
["","",""]
["","",""]
["","",""]
["","",""]
["","",""]
["","",""]
["","",""]
["","",""]
["","",""]
["","",""]
["","",""]
["","",""]
["","",""]
["","",""]
["","",""]
[{"$f":"IF(S67=\"\",\"\",S67)","v":""},{"$f":"IF(F67=\"\",\"\",ASC(F67))","v":""},{"$f":"IF(G67=\"\",\"\",G67&\" \"&H67)","v":""}]
["","",""]
["","",""]
["","",""]
["","",""]
["","",""]
["","",""]
["","",""]
["","",""]
["","",""]
["","",""]
["","",""]
["","",""]
["","",""]
["","",""]
["","",""]
["","",""]
["","",""]
["","",""]
["","",""]
["","",""]
["","",""]
["","",""]
["","",""]
["","",""]
["","",""]
["","",""]
["","",""]
["","",""]
["","",""]
["","",""]
["","",""]
[{"$f":"IF(S99=\"\",\"\",S99)","v":""},{"$f":"IF(F99=\"\",\"\",ASC(F99))","v":""},{"$f":"IF(G99=\"\",\"\",G99&\" \"&H99)","v":""}]
["","",""]
["","",""]
["","",""]
["","",""]
["","",""]
["","",""]
["","",""]
["","",""]
["","",""]
["","",""]
["","",""]
["","",""]
["","",""]
["","",""]
["","",""]
["","",""]
["","",""]
["","",""]
["","",""]
["","",""]
["","",""]
["","",""]
["","",""]
["","",""]
["","",""]
["","",""]
["","",""]
["","",""]
["","",""]
["","",""]
["","",""]
[{"$f":"IF(S131=\"\",\"\",S131)","v":""},{"$f":"IF(F131=\"\",\"\",ASC(F131))","v":""},{"$f":"IF(G131=\"\",\"\",G131&\" \"&H131)","v":""}]
["","",""]
["","",""]
["","",""]
["","",""]
["","",""]
["","",""]
["","",""]
["","",""]
["","",""]
["","",""]
["","",""]
["","",""]
["","",""]
["","",""]
["","",""]
["","",""]
["","",""]
["","",""]
["","",""]
["","",""]
["","",""]
["","",""]
["","",""]
["","",""]
["","",""]
["","",""]
["","",""]
["","",""]
["","",""]
["","",""]
["","",""]
[{"$f":"IF(S163=\"\",\"\",S163)","v":""},{"$f":"IF(F163=\"\",\"\",ASC(F163))","v":""},{"$f":"IF(G163=\"\",\"\",G163&\" \"&H163)","v":""}]
["","",""]
["","",""]
["","",""]
["","",""]
["","",""]
["","",""]
["","",""]
["","",""]
["","",""]
["","",""]
["","",""]
["","",""]
["","",""]
["","",""]
["","",""]
["","",""]
["","",""]
["","",""]
["","",""]
["","",""]
["","",""]
["","",""]
["","",""]
["","",""]
["","",""]
["","",""]
["","",""]
["","",""]
["","",""]
["","",""]
["","",""]
[{"$f":"IF(S195=\"\",\"\",S195)","v":""},{"$f":"IF(F195=\"\",\"\",ASC(F195))","v":""},{"$f":"IF(G195=\"\",\"\",G195&\" \"&H195)","v":""}]
["","",""]
["","",""]
["","",""]
["","",""]
["","",""]
["","",""]

{"sheet":"【様式1-1】男子団体（個人）申込書","index":4,"n_rows":67,"n_cols":22,"rows_kept":67,"cut":false,"hidden":false,"merged":[[5,0,6,0],[5,1,5,2],[5,3,6,3],[5,5,6,5],[5,6,6,6],[5,4,6,4],[0,20,0,21],[65,3,65,8],[66,3,66,8],[63,3,63,5],[64,3,64,8],[5,21,6,21],[1,15,1,17],[61,13,61,16],[62,13,62,16],[1,5,1,12],[3,5,3,12],[5,7,6,7],[5,9,6,9],[5,11,6,11],[5,12,5,15],[5,16,5,20]]}
[null,null,null,null,null,null,null,null,null,null,null,null,null,null,null,null,null,null,null,null,"【様式1-1】"]
[null,null,null,"大会名",null,"第６５回北陸地域陸上競技選手権大会",null,null,null,null,null,null,null,null,null,"参加申込一覧表（　男子　）"]
[]
[null,null,null,"所属学校・団体名 ",null,null,null,null,null,null,null,null,null,{"$f":"IF(F4=\"\",\"\",男子ﾃﾞｰﾀ貼付ｼｰﾄ!T3)","v":""}]
[]
[null,"ﾅﾝﾊﾞｰ",null,"氏　名","ﾌﾘｶﾞﾅ\n(半角ｶﾀｶﾅ)","ｱﾙﾌｧﾍﾞｯﾄ表記","性別","学年","生年月日","所属","登録","国籍","各県選手権決勝の記録・順位",null,null,null,"有効期間内の自己最高記録（標準突破記録の記載を含む）",null,null,null,null,"備考"]
[null,"北","県",null,null,null,null,null,"西暦8桁の数字",null,"都道府県",null,"種目","記録","順位","年月(4桁)","記録","順位","年月(4桁)","大会名","場所"]
[1,null,null,{"$f":"IF($C8=\"\",\"\",VLOOKUP($C8,男子ﾃﾞｰﾀ貼付ｼｰﾄ!$A$3:$W$201,5))","v":""},{"$f":"IF($C8=\"\",\"\",VLOOKUP($C8,男子ﾃﾞｰﾀ貼付ｼｰﾄ!$A$3:$W$201,2))","v":""},{"$f":"IF($C8=\"\",\"\",VLOOKUP($C8,男子ﾃﾞｰﾀ貼付ｼｰﾄ!$A$3:$W$201,3))","v":""},"男",{"$f":"IF($C8=\"\",\"\",VLOOKUP($C8,男子ﾃﾞｰﾀ貼付ｼｰﾄ!$A$3:$W$201,22))","v":""},{"$f":"IF($C8=\"\",\"\",VLOOKUP($C8,男子ﾃﾞｰﾀ貼付ｼｰﾄ!$A$3:$W$201,18))","v":""},{"$f":"IF($C8=\"\",\"\",VLOOKUP($C8,男子ﾃﾞｰﾀ貼付ｼｰﾄ!$A$3:$W$201,16))","v":""},{"$f":"IF($C8=\"\",\"\",VLOOKUP($C8,男子ﾃﾞｰﾀ貼付ｼｰﾄ!$A$3:$W$201,12))","v":""},{"$f":"IF($C8=\"\",\"\",VLOOKUP($C8,男子ﾃﾞｰﾀ貼付ｼｰﾄ!$A$3:$W$201,9))","v":""}]
[2,null,null,{"$f":"IF($C9=\"\",\"\",VLOOKUP($C9,男子ﾃﾞｰﾀ貼付ｼｰﾄ!$A$3:$W$201,5))","v":""},{"$f":"IF($C9=\"\",\"\",VLOOKUP($C9,男子ﾃﾞｰﾀ貼付ｼｰﾄ!$A$3:$W$201,2))","v":""},{"$f":"IF($C9=\"\",\"\",VLOOKUP($C9,男子ﾃﾞｰﾀ貼付ｼｰﾄ!$A$3:$W$201,3))","v":""},"男",{"$f":"IF($C9=\"\",\"\",VLOOKUP($C9,男子ﾃﾞｰﾀ貼付ｼｰﾄ!$A$3:$W$201,22))","v":""},{"$f":"IF($C9=\"\",\"\",VLOOKUP($C9,男子ﾃﾞｰﾀ貼付ｼｰﾄ!$A$3:$W$201,18))","v":""},{"$f":"IF($C9=\"\",\"\",VLOOKUP($C9,男子ﾃﾞｰﾀ貼付ｼｰﾄ!$A$3:$W$201,16))","v":""},{"$f":"IF($C9=\"\",\"\",VLOOKUP($C9,男子ﾃﾞｰﾀ貼付ｼｰﾄ!$A$3:$W$201,12))","v":""},{"$f":"IF($C9=\"\",\"\",VLOOKUP($C9,男子ﾃﾞｰﾀ貼付ｼｰﾄ!$A$3:$W$201,9))","v":""}]
[3,null,null,{"$f":"IF($C10=\"\",\"\",VLOOKUP($C10,男子ﾃﾞｰﾀ貼付ｼｰﾄ!$A$3:$W$201,5))","v":""},{"$f":"IF($C10=\"\",\"\",VLOOKUP($C10,男子ﾃﾞｰﾀ貼付ｼｰﾄ!$A$3:$W$201,2))","v":""},{"$f":"IF($C10=\"\",\"\",VLOOKUP($C10,男子ﾃﾞｰﾀ貼付ｼｰﾄ!$A$3:$W$201,3))","v":""},"男",{"$f":"IF($C10=\"\",\"\",VLOOKUP($C10,男子ﾃﾞｰﾀ貼付ｼｰﾄ!$A$3:$W$201,22))","v":""},{"$f":"IF($C10=\"\",\"\",VLOOKUP($C10,男子ﾃﾞｰﾀ貼付ｼｰﾄ!$A$3:$W$201,18))","v":""},{"$f":"IF($C10=\"\",\"\",VLOOKUP($C10,男子ﾃﾞｰﾀ貼付ｼｰﾄ!$A$3:$W$201,16))","v":""},{"$f":"IF($C10=\"\",\"\",VLOOKUP($C10,男子ﾃﾞｰﾀ貼付ｼｰﾄ!$A$3:$W$201,12))","v":""},{"$f":"IF($C10=\"\",\"\",VLOOKUP($C10,男子ﾃﾞｰﾀ貼付ｼｰﾄ!$A$3:$W$201,9))","v":""}]
[4,null,null,{"$f":"IF($C11=\"\",\"\",VLOOKUP($C11,男子ﾃﾞｰﾀ貼付ｼｰﾄ!$A$3:$W$201,5))","v":""},{"$f":"IF($C11=\"\",\"\",VLOOKUP($C11,男子ﾃﾞｰﾀ貼付ｼｰﾄ!$A$3:$W$201,2))","v":""},{"$f":"IF($C11=\"\",\"\",VLOOKUP($C11,男子ﾃﾞｰﾀ貼付ｼｰﾄ!$A$3:$W$201,3))","v":""},"男",{"$f":"IF($C11=\"\",\"\",VLOOKUP($C11,男子ﾃﾞｰﾀ貼付ｼｰﾄ!$A$3:$W$201,22))","v":""},{"$f":"IF($C11=\"\",\"\",VLOOKUP($C11,男子ﾃﾞｰﾀ貼付ｼｰﾄ!$A$3:$W$201,18))","v":""},{"$f":"IF($C11=\"\",\"\",VLOOKUP($C11,男子ﾃﾞｰﾀ貼付ｼｰﾄ!$A$3:$W$201,16))","v":""},{"$f":"IF($C11=\"\",\"\",VLOOKUP($C11,男子ﾃﾞｰﾀ貼付ｼｰﾄ!$A$3:$W$201,12))","v":""},{"$f":"IF($C11=\"\",\"\",VLOOKUP($C11,男子ﾃﾞｰﾀ貼付ｼｰﾄ!$A$3:$W$201,9))","v":""}]
[5,null,null,{"$f":"IF($C12=\"\",\"\",VLOOKUP($C12,男子ﾃﾞｰﾀ貼付ｼｰﾄ!$A$3:$W$201,5))","v":""},{"$f":"IF($C12=\"\",\"\",VLOOKUP($C12,男子ﾃﾞｰﾀ貼付ｼｰﾄ!$A$3:$W$201,2))","v":""},{"$f":"IF($C12=\"\",\"\",VLOOKUP($C12,男子ﾃﾞｰﾀ貼付ｼｰﾄ!$A$3:$W$201,3))","v":""},"男",{"$f":"IF($C12=\"\",\"\",VLOOKUP($C12,男子ﾃﾞｰﾀ貼付ｼｰﾄ!$A$3:$W$201,22))","v":""},{"$f":"IF($C12=\"\",\"\",VLOOKUP($C12,男子ﾃﾞｰﾀ貼付ｼｰﾄ!$A$3:$W$201,18))","v":""},{"$f":"IF($C12=\"\",\"\",VLOOKUP($C12,男子ﾃﾞｰﾀ貼付ｼｰﾄ!$A$3:$W$201,16))","v":""},{"$f":"IF($C12=\"\",\"\",VLOOKUP($C12,男子ﾃﾞｰﾀ貼付ｼｰﾄ!$A$3:$W$201,12))","v":""},{"$f":"IF($C12=\"\",\"\",VLOOKUP($C12,男子ﾃﾞｰﾀ貼付ｼｰﾄ!$A$3:$W$201,9))","v":""}]
[6,null,null,{"$f":"IF($C13=\"\",\"\",VLOOKUP($C13,男子ﾃﾞｰﾀ貼付ｼｰﾄ!$A$3:$W$201,5))","v":""},{"$f":"IF($C13=\"\",\"\",VLOOKUP($C13,男子ﾃﾞｰﾀ貼付ｼｰﾄ!$A$3:$W$201,2))","v":""},{"$f":"IF($C13=\"\",\"\",VLOOKUP($C13,男子ﾃﾞｰﾀ貼付ｼｰﾄ!$A$3:$W$201,3))","v":""},"男",{"$f":"IF($C13=\"\",\"\",VLOOKUP($C13,男子ﾃﾞｰﾀ貼付ｼｰﾄ!$A$3:$W$201,22))","v":""},{"$f":"IF($C13=\"\",\"\",VLOOKUP($C13,男子ﾃﾞｰﾀ貼付ｼｰﾄ!$A$3:$W$201,18))","v":""},{"$f":"IF($C13=\"\",\"\",VLOOKUP($C13,男子ﾃﾞｰﾀ貼付ｼｰﾄ!$A$3:$W$201,16))","v":""},{"$f":"IF($C13=\"\",\"\",VLOOKUP($C13,男子ﾃﾞｰﾀ貼付ｼｰﾄ!$A$3:$W$201,12))","v":""},{"$f":"IF($C13=\"\",\"\",VLOOKUP($C13,男子ﾃﾞｰﾀ貼付ｼｰﾄ!$A$3:$W$201,9))","v":""}]
[7,null,null,{"$f":"IF($C14=\"\",\"\",VLOOKUP($C14,男子ﾃﾞｰﾀ貼付ｼｰﾄ!$A$3:$W$201,5))","v":""},{"$f":"IF($C14=\"\",\"\",VLOOKUP($C14,男子ﾃﾞｰﾀ貼付ｼｰﾄ!$A$3:$W$201,2))","v":""},{"$f":"IF($C14=\"\",\"\",VLOOKUP($C14,男子ﾃﾞｰﾀ貼付ｼｰﾄ!$A$3:$W$201,3))","v":""},"男",{"$f":"IF($C14=\"\",\"\",VLOOKUP($C14,男子ﾃﾞｰﾀ貼付ｼｰﾄ!$A$3:$W$201,22))","v":""},{"$f":"IF($C14=\"\",\"\",VLOOKUP($C14,男子ﾃﾞｰﾀ貼付ｼｰﾄ!$A$3:$W$201,18))","v":""},{"$f":"IF($C14=\"\",\"\",VLOOKUP($C14,男子ﾃﾞｰﾀ貼付ｼｰﾄ!$A$3:$W$201,16))","v":""},{"$f":"IF($C14=\"\",\"\",VLOOKUP($C14,男子ﾃﾞｰﾀ貼付ｼｰﾄ!$A$3:$W$201,12))","v":""},{"$f":"IF($C14=\"\",\"\",VLOOKUP($C14,男子ﾃﾞｰﾀ貼付ｼｰﾄ!$A$3:$W$201,9))","v":""}]
[8,null,null,{"$f":"IF($C15=\"\",\"\",VLOOKUP($C15,男子ﾃﾞｰﾀ貼付ｼｰﾄ!$A$3:$W$201,5))","v":""},{"$f":"IF($C15=\"\",\"\",VLOOKUP($C15,男子ﾃﾞｰﾀ貼付ｼｰﾄ!$A$3:$W$201,2))","v":""},{"$f":"IF($C15=\"\",\"\",VLOOKUP($C15,男子ﾃﾞｰﾀ貼付ｼｰﾄ!$A$3:$W$201,3))","v":""},"男",{"$f":"IF($C15=\"\",\"\",VLOOKUP($C15,男子ﾃﾞｰﾀ貼付ｼｰﾄ!$A$3:$W$201,22))","v":""},{"$f":"IF($C15=\"\",\"\",VLOOKUP($C15,男子ﾃﾞｰﾀ貼付ｼｰﾄ!$A$3:$W$201,18))","v":""},{"$f":"IF($C15=\"\",\"\",VLOOKUP($C15,男子ﾃﾞｰﾀ貼付ｼｰﾄ!$A$3:$W$201,16))","v":""},{"$f":"IF($C15=\"\",\"\",VLOOKUP($C15,男子ﾃﾞｰﾀ貼付ｼｰﾄ!$A$3:$W$201,12))","v":""},{"$f":"IF($C15=\"\",\"\",VLOOKUP($C15,男子ﾃﾞｰﾀ貼付ｼｰﾄ!$A$3:$W$201,9))","v":""}]
[9,null,null,{"$f":"IF($C16=\"\",\"\",VLOOKUP($C16,男子ﾃﾞｰﾀ貼付ｼｰﾄ!$A$3:$W$201,5))","v":""},{"$f":"IF($C16=\"\",\"\",VLOOKUP($C16,男子ﾃﾞｰﾀ貼付ｼｰﾄ!$A$3:$W$201,2))","v":""},{"$f":"IF($C16=\"\",\"\",VLOOKUP($C16,男子ﾃﾞｰﾀ貼付ｼｰﾄ!$A$3:$W$201,3))","v":""},"男",{"$f":"IF($C16=\"\",\"\",VLOOKUP($C16,男子ﾃﾞｰﾀ貼付ｼｰﾄ!$A$3:$W$201,22))","v":""},{"$f":"IF($C16=\"\",\"\",VLOOKUP($C16,男子ﾃﾞｰﾀ貼付ｼｰﾄ!$A$3:$W$201,18))","v":""},{"$f":"IF($C16=\"\",\"\",VLOOKUP($C16,男子ﾃﾞｰﾀ貼付ｼｰﾄ!$A$3:$W$201,16))","v":""},{"$f":"IF($C16=\"\",\"\",VLOOKUP($C16,男子ﾃﾞｰﾀ貼付ｼｰﾄ!$A$3:$W$201,12))","v":""},{"$f":"IF($C16=\"\",\"\",VLOOKUP($C16,男子ﾃﾞｰﾀ貼付ｼｰﾄ!$A$3:$W$201,9))","v":""}]
[10,null,null,{"$f":"IF($C17=\"\",\"\",VLOOKUP($C17,男子ﾃﾞｰﾀ貼付ｼｰﾄ!$A$3:$W$201,5))","v":""},{"$f":"IF($C17=\"\",\"\",VLOOKUP($C17,男子ﾃﾞｰﾀ貼付ｼｰﾄ!$A$3:$W$201,2))","v":""},{"$f":"IF($C17=\"\",\"\",VLOOKUP($C17,男子ﾃﾞｰﾀ貼付ｼｰﾄ!$A$3:$W$201,3))","v":""},"男",{"$f":"IF($C17=\"\",\"\",VLOOKUP($C17,男子ﾃﾞｰﾀ貼付ｼｰﾄ!$A$3:$W$201,22))","v":""},{"$f":"IF($C17=\"\",\"\",VLOOKUP($C17,男子ﾃﾞｰﾀ貼付ｼｰﾄ!$A$3:$W$201,18))","v":""},{"$f":"IF($C17=\"\",\"\",VLOOKUP($C17,男子ﾃﾞｰﾀ貼付ｼｰﾄ!$A$3:$W$201,16))","v":""},{"$f":"IF($C17=\"\",\"\",VLOOKUP($C17,男子ﾃﾞｰﾀ貼付ｼｰﾄ!$A$3:$W$201,12))","v":""},{"$f":"IF($C17=\"\",\"\",VLOOKUP($C17,男子ﾃﾞｰﾀ貼付ｼｰﾄ!$A$3:$W$201,9))","v":""}]
[11,null,null,{"$f":"IF($C18=\"\",\"\",VLOOKUP($C18,男子ﾃﾞｰﾀ貼付ｼｰﾄ!$A$3:$W$201,5))","v":""},{"$f":"IF($C18=\"\",\"\",VLOOKUP($C18,男子ﾃﾞｰﾀ貼付ｼｰﾄ!$A$3:$W$201,2))","v":""},{"$f":"IF($C18=\"\",\"\",VLOOKUP($C18,男子ﾃﾞｰﾀ貼付ｼｰﾄ!$A$3:$W$201,3))","v":""},"男",{"$f":"IF($C18=\"\",\"\",VLOOKUP($C18,男子ﾃﾞｰﾀ貼付ｼｰﾄ!$A$3:$W$201,22))","v":""},{"$f":"IF($C18=\"\",\"\",VLOOKUP($C18,男子ﾃﾞｰﾀ貼付ｼｰﾄ!$A$3:$W$201,18))","v":""},{"$f":"IF($C18=\"\",\"\",VLOOKUP($C18,男子ﾃﾞｰﾀ貼付ｼｰﾄ!$A$3:$W$201,16))","v":""},{"$f":"IF($C18=\"\",\"\",VLOOKUP($C18,男子ﾃﾞｰﾀ貼付ｼｰﾄ!$A$3:$W$201,12))","v":""},{"$f":"IF($C18=\"\",\"\",VLOOKUP($C18,男子ﾃﾞｰﾀ貼付ｼｰﾄ!$A$3:$W$201,9))","v":""}]
[12,null,null,{"$f":"IF($C19=\"\",\"\",VLOOKUP($C19,男子ﾃﾞｰﾀ貼付ｼｰﾄ!$A$3:$W$201,5))","v":""},{"$f":"IF($C19=\"\",\"\",VLOOKUP($C19,男子ﾃﾞｰﾀ貼付ｼｰﾄ!$A$3:$W$201,2))","v":""},{"$f":"IF($C19=\"\",\"\",VLOOKUP($C19,男子ﾃﾞｰﾀ貼付ｼｰﾄ!$A$3:$W$201,3))","v":""},"男",{"$f":"IF($C19=\"\",\"\",VLOOKUP($C19,男子ﾃﾞｰﾀ貼付ｼｰﾄ!$A$3:$W$201,22))","v":""},{"$f":"IF($C19=\"\",\"\",VLOOKUP($C19,男子ﾃﾞｰﾀ貼付ｼｰﾄ!$A$3:$W$201,18))","v":""},{"$f":"IF($C19=\"\",\"\",VLOOKUP($C19,男子ﾃﾞｰﾀ貼付ｼｰﾄ!$A$3:$W$201,16))","v":""},{"$f":"IF($C19=\"\",\"\",VLOOKUP($C19,男子ﾃﾞｰﾀ貼付ｼｰﾄ!$A$3:$W$201,12))","v":""},{"$f":"IF($C19=\"\",\"\",VLOOKUP($C19,男子ﾃﾞｰﾀ貼付ｼｰﾄ!$A$3:$W$201,9))","v":""}]
[13,null,null,{"$f":"IF($C20=\"\",\"\",VLOOKUP($C20,男子ﾃﾞｰﾀ貼付ｼｰﾄ!$A$3:$W$201,5))","v":""},{"$f":"IF($C20=\"\",\"\",VLOOKUP($C20,男子ﾃﾞｰﾀ貼付ｼｰﾄ!$A$3:$W$201,2))","v":""},{"$f":"IF($C20=\"\",\"\",VLOOKUP($C20,男子ﾃﾞｰﾀ貼付ｼｰﾄ!$A$3:$W$201,3))","v":""},"男",{"$f":"IF($C20=\"\",\"\",VLOOKUP($C20,男子ﾃﾞｰﾀ貼付ｼｰﾄ!$A$3:$W$201,22))","v":""},{"$f":"IF($C20=\"\",\"\",VLOOKUP($C20,男子ﾃﾞｰﾀ貼付ｼｰﾄ!$A$3:$W$201,18))","v":""},{"$f":"IF($C20=\"\",\"\",VLOOKUP($C20,男子ﾃﾞｰﾀ貼付ｼｰﾄ!$A$3:$W$201,16))","v":""},{"$f":"IF($C20=\"\",\"\",VLOOKUP($C20,男子ﾃﾞｰﾀ貼付ｼｰﾄ!$A$3:$W$201,12))","v":""},{"$f":"IF($C20=\"\",\"\",VLOOKUP($C20,男子ﾃﾞｰﾀ貼付ｼｰﾄ!$A$3:$W$201,9))","v":""}]
[14,null,null,{"$f":"IF($C21=\"\",\"\",VLOOKUP($C21,男子ﾃﾞｰﾀ貼付ｼｰﾄ!$A$3:$W$201,5))","v":""},{"$f":"IF($C21=\"\",\"\",VLOOKUP($C21,男子ﾃﾞｰﾀ貼付ｼｰﾄ!$A$3:$W$201,2))","v":""},{"$f":"IF($C21=\"\",\"\",VLOOKUP($C21,男子ﾃﾞｰﾀ貼付ｼｰﾄ!$A$3:$W$201,3))","v":""},"男",{"$f":"IF($C21=\"\",\"\",VLOOKUP($C21,男子ﾃﾞｰﾀ貼付ｼｰﾄ!$A$3:$W$201,22))","v":""},{"$f":"IF($C21=\"\",\"\",VLOOKUP($C21,男子ﾃﾞｰﾀ貼付ｼｰﾄ!$A$3:$W$201,18))","v":""},{"$f":"IF($C21=\"\",\"\",VLOOKUP($C21,男子ﾃﾞｰﾀ貼付ｼｰﾄ!$A$3:$W$201,16))","v":""},{"$f":"IF($C21=\"\",\"\",VLOOKUP($C21,男子ﾃﾞｰﾀ貼付ｼｰﾄ!$A$3:$W$201,12))","v":""},{"$f":"IF($C21=\"\",\"\",VLOOKUP($C21,男子ﾃﾞｰﾀ貼付ｼｰﾄ!$A$3:$W$201,9))","v":""}]
[15,null,null,{"$f":"IF($C22=\"\",\"\",VLOOKUP($C22,男子ﾃﾞｰﾀ貼付ｼｰﾄ!$A$3:$W$201,5))","v":""},{"$f":"IF($C22=\"\",\"\",VLOOKUP($C22,男子ﾃﾞｰﾀ貼付ｼｰﾄ!$A$3:$W$201,2))","v":""},{"$f":"IF($C22=\"\",\"\",VLOOKUP($C22,男子ﾃﾞｰﾀ貼付ｼｰﾄ!$A$3:$W$201,3))","v":""},"男",{"$f":"IF($C22=\"\",\"\",VLOOKUP($C22,男子ﾃﾞｰﾀ貼付ｼｰﾄ!$A$3:$W$201,22))","v":""},{"$f":"IF($C22=\"\",\"\",VLOOKUP($C22,男子ﾃﾞｰﾀ貼付ｼｰﾄ!$A$3:$W$201,18))","v":""},{"$f":"IF($C22=\"\",\"\",VLOOKUP($C22,男子ﾃﾞｰﾀ貼付ｼｰﾄ!$A$3:$W$201,16))","v":""},{"$f":"IF($C22=\"\",\"\",VLOOKUP($C22,男子ﾃﾞｰﾀ貼付ｼｰﾄ!$A$3:$W$201,12))","v":""},{"$f":"IF($C22=\"\",\"\",VLOOKUP($C22,男子ﾃﾞｰﾀ貼付ｼｰﾄ!$A$3:$W$201,9))","v":""}]
[16,null,null,{"$f":"IF($C23=\"\",\"\",VLOOKUP($C23,男子ﾃﾞｰﾀ貼付ｼｰﾄ!$A$3:$W$201,5))","v":""},{"$f":"IF($C23=\"\",\"\",VLOOKUP($C23,男子ﾃﾞｰﾀ貼付ｼｰﾄ!$A$3:$W$201,2))","v":""},{"$f":"IF($C23=\"\",\"\",VLOOKUP($C23,男子ﾃﾞｰﾀ貼付ｼｰﾄ!$A$3:$W$201,3))","v":""},"男",{"$f":"IF($C23=\"\",\"\",VLOOKUP($C23,男子ﾃﾞｰﾀ貼付ｼｰﾄ!$A$3:$W$201,22))","v":""},{"$f":"IF($C23=\"\",\"\",VLOOKUP($C23,男子ﾃﾞｰﾀ貼付ｼｰﾄ!$A$3:$W$201,18))","v":""},{"$f":"IF($C23=\"\",\"\",VLOOKUP($C23,男子ﾃﾞｰﾀ貼付ｼｰﾄ!$A$3:$W$201,16))","v":""},{"$f":"IF($C23=\"\",\"\",VLOOKUP($C23,男子ﾃﾞｰﾀ貼付ｼｰﾄ!$A$3:$W$201,12))","v":""},{"$f":"IF($C23=\"\",\"\",VLOOKUP($C23,男子ﾃﾞｰﾀ貼付ｼｰﾄ!$A$3:$W$201,9))","v":""}]
[17,null,null,{"$f":"IF($C24=\"\",\"\",VLOOKUP($C24,男子ﾃﾞｰﾀ貼付ｼｰﾄ!$A$3:$W$201,5))","v":""},{"$f":"IF($C24=\"\",\"\",VLOOKUP($C24,男子ﾃﾞｰﾀ貼付ｼｰﾄ!$A$3:$W$201,2))","v":""},{"$f":"IF($C24=\"\",\"\",VLOOKUP($C24,男子ﾃﾞｰﾀ貼付ｼｰﾄ!$A$3:$W$201,3))","v":""},"男",{"$f":"IF($C24=\"\",\"\",VLOOKUP($C24,男子ﾃﾞｰﾀ貼付ｼｰﾄ!$A$3:$W$201,22))","v":""},{"$f":"IF($C24=\"\",\"\",VLOOKUP($C24,男子ﾃﾞｰﾀ貼付ｼｰﾄ!$A$3:$W$201,18))","v":""},{"$f":"IF($C24=\"\",\"\",VLOOKUP($C24,男子ﾃﾞｰﾀ貼付ｼｰﾄ!$A$3:$W$201,16))","v":""},{"$f":"IF($C24=\"\",\"\",VLOOKUP($C24,男子ﾃﾞｰﾀ貼付ｼｰﾄ!$A$3:$W$201,12))","v":""},{"$f":"IF($C24=\"\",\"\",VLOOKUP($C24,男子ﾃﾞｰﾀ貼付ｼｰﾄ!$A$3:$W$201,9))","v":""}]
[18,null,null,{"$f":"IF($C25=\"\",\"\",VLOOKUP($C25,男子ﾃﾞｰﾀ貼付ｼｰﾄ!$A$3:$W$201,5))","v":""},{"$f":"IF($C25=\"\",\"\",VLOOKUP($C25,男子ﾃﾞｰﾀ貼付ｼｰﾄ!$A$3:$W$201,2))","v":""},{"$f":"IF($C25=\"\",\"\",VLOOKUP($C25,男子ﾃﾞｰﾀ貼付ｼｰﾄ!$A$3:$W$201,3))","v":""},"男",{"$f":"IF($C25=\"\",\"\",VLOOKUP($C25,男子ﾃﾞｰﾀ貼付ｼｰﾄ!$A$3:$W$201,22))","v":""},{"$f":"IF($C25=\"\",\"\",VLOOKUP($C25,男子ﾃﾞｰﾀ貼付ｼｰﾄ!$A$3:$W$201,18))","v":""},{"$f":"IF($C25=\"\",\"\",VLOOKUP($C25,男子ﾃﾞｰﾀ貼付ｼｰﾄ!$A$3:$W$201,16))","v":""},{"$f":"IF($C25=\"\",\"\",VLOOKUP($C25,男子ﾃﾞｰﾀ貼付ｼｰﾄ!$A$3:$W$201,12))","v":""},{"$f":"IF($C25=\"\",\"\",VLOOKUP($C25,男子ﾃﾞｰﾀ貼付ｼｰﾄ!$A$3:$W$201,9))","v":""}]
[19,null,null,{"$f":"IF($C26=\"\",\"\",VLOOKUP($C26,男子ﾃﾞｰﾀ貼付ｼｰﾄ!$A$3:$W$201,5))","v":""},{"$f":"IF($C26=\"\",\"\",VLOOKUP($C26,男子ﾃﾞｰﾀ貼付ｼｰﾄ!$A$3:$W$201,2))","v":""},{"$f":"IF($C26=\"\",\"\",VLOOKUP($C26,男子ﾃﾞｰﾀ貼付ｼｰﾄ!$A$3:$W$201,3))","v":""},"男",{"$f":"IF($C26=\"\",\"\",VLOOKUP($C26,男子ﾃﾞｰﾀ貼付ｼｰﾄ!$A$3:$W$201,22))","v":""},{"$f":"IF($C26=\"\",\"\",VLOOKUP($C26,男子ﾃﾞｰﾀ貼付ｼｰﾄ!$A$3:$W$201,18))","v":""},{"$f":"IF($C26=\"\",\"\",VLOOKUP($C26,男子ﾃﾞｰﾀ貼付ｼｰﾄ!$A$3:$W$201,16))","v":""},{"$f":"IF($C26=\"\",\"\",VLOOKUP($C26,男子ﾃﾞｰﾀ貼付ｼｰﾄ!$A$3:$W$201,12))","v":""},{"$f":"IF($C26=\"\",\"\",VLOOKUP($C26,男子ﾃﾞｰﾀ貼付ｼｰﾄ!$A$3:$W$201,9))","v":""}]
[20,null,null,{"$f":"IF($C27=\"\",\"\",VLOOKUP($C27,男子ﾃﾞｰﾀ貼付ｼｰﾄ!$A$3:$W$201,5))","v":""},{"$f":"IF($C27=\"\",\"\",VLOOKUP($C27,男子ﾃﾞｰﾀ貼付ｼｰﾄ!$A$3:$W$201,2))","v":""},{"$f":"IF($C27=\"\",\"\",VLOOKUP($C27,男子ﾃﾞｰﾀ貼付ｼｰﾄ!$A$3:$W$201,3))","v":""},"男",{"$f":"IF($C27=\"\",\"\",VLOOKUP($C27,男子ﾃﾞｰﾀ貼付ｼｰﾄ!$A$3:$W$201,22))","v":""},{"$f":"IF($C27=\"\",\"\",VLOOKUP($C27,男子ﾃﾞｰﾀ貼付ｼｰﾄ!$A$3:$W$201,18))","v":""},{"$f":"IF($C27=\"\",\"\",VLOOKUP($C27,男子ﾃﾞｰﾀ貼付ｼｰﾄ!$A$3:$W$201,16))","v":""},{"$f":"IF($C27=\"\",\"\",VLOOKUP($C27,男子ﾃﾞｰﾀ貼付ｼｰﾄ!$A$3:$W$201,12))","v":""},{"$f":"IF($C27=\"\",\"\",VLOOKUP($C27,男子ﾃﾞｰﾀ貼付ｼｰﾄ!$A$3:$W$201,9))","v":""}]
[21,null,null,{"$f":"IF($C28=\"\",\"\",VLOOKUP($C28,男子ﾃﾞｰﾀ貼付ｼｰﾄ!$A$3:$W$201,5))","v":""},{"$f":"IF($C28=\"\",\"\",VLOOKUP($C28,男子ﾃﾞｰﾀ貼付ｼｰﾄ!$A$3:$W$201,2))","v":""},{"$f":"IF($C28=\"\",\"\",VLOOKUP($C28,男子ﾃﾞｰﾀ貼付ｼｰﾄ!$A$3:$W$201,3))","v":""},"男",{"$f":"IF($C28=\"\",\"\",VLOOKUP($C28,男子ﾃﾞｰﾀ貼付ｼｰﾄ!$A$3:$W$201,22))","v":""},{"$f":"IF($C28=\"\",\"\",VLOOKUP($C28,男子ﾃﾞｰﾀ貼付ｼｰﾄ!$A$3:$W$201,18))","v":""},{"$f":"IF($C28=\"\",\"\",VLOOKUP($C28,男子ﾃﾞｰﾀ貼付ｼｰﾄ!$A$3:$W$201,16))","v":""},{"$f":"IF($C28=\"\",\"\",VLOOKUP($C28,男子ﾃﾞｰﾀ貼付ｼｰﾄ!$A$3:$W$201,12))","v":""},{"$f":"IF($C28=\"\",\"\",VLOOKUP($C28,男子ﾃﾞｰﾀ貼付ｼｰﾄ!$A$3:$W$201,9))","v":""}]
[22,null,null,{"$f":"IF($C29=\"\",\"\",VLOOKUP($C29,男子ﾃﾞｰﾀ貼付ｼｰﾄ!$A$3:$W$201,5))","v":""},{"$f":"IF($C29=\"\",\"\",VLOOKUP($C29,男子ﾃﾞｰﾀ貼付ｼｰﾄ!$A$3:$W$201,2))","v":""},{"$f":"IF($C29=\"\",\"\",VLOOKUP($C29,男子ﾃﾞｰﾀ貼付ｼｰﾄ!$A$3:$W$201,3))","v":""},"男",{"$f":"IF($C29=\"\",\"\",VLOOKUP($C29,男子ﾃﾞｰﾀ貼付ｼｰﾄ!$A$3:$W$201,22))","v":""},{"$f":"IF($C29=\"\",\"\",VLOOKUP($C29,男子ﾃﾞｰﾀ貼付ｼｰﾄ!$A$3:$W$201,18))","v":""},{"$f":"IF($C29=\"\",\"\",VLOOKUP($C29,男子ﾃﾞｰﾀ貼付ｼｰﾄ!$A$3:$W$201,16))","v":""},{"$f":"IF($C29=\"\",\"\",VLOOKUP($C29,男子ﾃﾞｰﾀ貼付ｼｰﾄ!$A$3:$W$201,12))","v":""},{"$f":"IF($C29=\"\",\"\",VLOOKUP($C29,男子ﾃﾞｰﾀ貼付ｼｰﾄ!$A$3:$W$201,9))","v":""}]
[23,null,null,{"$f":"IF($C30=\"\",\"\",VLOOKUP($C30,男子ﾃﾞｰﾀ貼付ｼｰﾄ!$A$3:$W$201,5))","v":""},{"$f":"IF($C30=\"\",\"\",VLOOKUP($C30,男子ﾃﾞｰﾀ貼付ｼｰﾄ!$A$3:$W$201,2))","v":""},{"$f":"IF($C30=\"\",\"\",VLOOKUP($C30,男子ﾃﾞｰﾀ貼付ｼｰﾄ!$A$3:$W$201,3))","v":""},"男",{"$f":"IF($C30=\"\",\"\",VLOOKUP($C30,男子ﾃﾞｰﾀ貼付ｼｰﾄ!$A$3:$W$201,22))","v":""},{"$f":"IF($C30=\"\",\"\",VLOOKUP($C30,男子ﾃﾞｰﾀ貼付ｼｰﾄ!$A$3:$W$201,18))","v":""},{"$f":"IF($C30=\"\",\"\",VLOOKUP($C30,男子ﾃﾞｰﾀ貼付ｼｰﾄ!$A$3:$W$201,16))","v":""},{"$f":"IF($C30=\"\",\"\",VLOOKUP($C30,男子ﾃﾞｰﾀ貼付ｼｰﾄ!$A$3:$W$201,12))","v":""},{"$f":"IF($C30=\"\",\"\",VLOOKUP($C30,男子ﾃﾞｰﾀ貼付ｼｰﾄ!$A$3:$W$201,9))","v":""}]
[24,null,null,{"$f":"IF($C31=\"\",\"\",VLOOKUP($C31,男子ﾃﾞｰﾀ貼付ｼｰﾄ!$A$3:$W$201,5))","v":""},{"$f":"IF($C31=\"\",\"\",VLOOKUP($C31,男子ﾃﾞｰﾀ貼付ｼｰﾄ!$A$3:$W$201,2))","v":""},{"$f":"IF($C31=\"\",\"\",VLOOKUP($C31,男子ﾃﾞｰﾀ貼付ｼｰﾄ!$A$3:$W$201,3))","v":""},"男",{"$f":"IF($C31=\"\",\"\",VLOOKUP($C31,男子ﾃﾞｰﾀ貼付ｼｰﾄ!$A$3:$W$201,22))","v":""},{"$f":"IF($C31=\"\",\"\",VLOOKUP($C31,男子ﾃﾞｰﾀ貼付ｼｰﾄ!$A$3:$W$201,18))","v":""},{"$f":"IF($C31=\"\",\"\",VLOOKUP($C31,男子ﾃﾞｰﾀ貼付ｼｰﾄ!$A$3:$W$201,16))","v":""},{"$f":"IF($C31=\"\",\"\",VLOOKUP($C31,男子ﾃﾞｰﾀ貼付ｼｰﾄ!$A$3:$W$201,12))","v":""},{"$f":"IF($C31=\"\",\"\",VLOOKUP($C31,男子ﾃﾞｰﾀ貼付ｼｰﾄ!$A$3:$W$201,9))","v":""}]
[25,null,null,{"$f":"IF($C32=\"\",\"\",VLOOKUP($C32,男子ﾃﾞｰﾀ貼付ｼｰﾄ!$A$3:$W$201,5))","v":""},{"$f":"IF($C32=\"\",\"\",VLOOKUP($C32,男子ﾃﾞｰﾀ貼付ｼｰﾄ!$A$3:$W$201,2))","v":""},{"$f":"IF($C32=\"\",\"\",VLOOKUP($C32,男子ﾃﾞｰﾀ貼付ｼｰﾄ!$A$3:$W$201,3))","v":""},"男",{"$f":"IF($C32=\"\",\"\",VLOOKUP($C32,男子ﾃﾞｰﾀ貼付ｼｰﾄ!$A$3:$W$201,22))","v":""},{"$f":"IF($C32=\"\",\"\",VLOOKUP($C32,男子ﾃﾞｰﾀ貼付ｼｰﾄ!$A$3:$W$201,18))","v":""},{"$f":"IF($C32=\"\",\"\",VLOOKUP($C32,男子ﾃﾞｰﾀ貼付ｼｰﾄ!$A$3:$W$201,16))","v":""},{"$f":"IF($C32=\"\",\"\",VLOOKUP($C32,男子ﾃﾞｰﾀ貼付ｼｰﾄ!$A$3:$W$201,12))","v":""},{"$f":"IF($C32=\"\",\"\",VLOOKUP($C32,男子ﾃﾞｰﾀ貼付ｼｰﾄ!$A$3:$W$201,9))","v":""}]
[26,null,null,{"$f":"IF($C33=\"\",\"\",VLOOKUP($C33,男子ﾃﾞｰﾀ貼付ｼｰﾄ!$A$3:$W$201,5))","v":""},{"$f":"IF($C33=\"\",\"\",VLOOKUP($C33,男子ﾃﾞｰﾀ貼付ｼｰﾄ!$A$3:$W$201,2))","v":""},{"$f":"IF($C33=\"\",\"\",VLOOKUP($C33,男子ﾃﾞｰﾀ貼付ｼｰﾄ!$A$3:$W$201,3))","v":""},"男",{"$f":"IF($C33=\"\",\"\",VLOOKUP($C33,男子ﾃﾞｰﾀ貼付ｼｰﾄ!$A$3:$W$201,22))","v":""},{"$f":"IF($C33=\"\",\"\",VLOOKUP($C33,男子ﾃﾞｰﾀ貼付ｼｰﾄ!$A$3:$W$201,18))","v":""},{"$f":"IF($C33=\"\",\"\",VLOOKUP($C33,男子ﾃﾞｰﾀ貼付ｼｰﾄ!$A$3:$W$201,16))","v":""},{"$f":"IF($C33=\"\",\"\",VLOOKUP($C33,男子ﾃﾞｰﾀ貼付ｼｰﾄ!$A$3:$W$201,12))","v":""},{"$f":"IF($C33=\"\",\"\",VLOOKUP($C33,男子ﾃﾞｰﾀ貼付ｼｰﾄ!$A$3:$W$201,9))","v":""}]
[27,null,null,{"$f":"IF($C34=\"\",\"\",VLOOKUP($C34,男子ﾃﾞｰﾀ貼付ｼｰﾄ!$A$3:$W$201,5))","v":""},{"$f":"IF($C34=\"\",\"\",VLOOKUP($C34,男子ﾃﾞｰﾀ貼付ｼｰﾄ!$A$3:$W$201,2))","v":""},{"$f":"IF($C34=\"\",\"\",VLOOKUP($C34,男子ﾃﾞｰﾀ貼付ｼｰﾄ!$A$3:$W$201,3))","v":""},"男",{"$f":"IF($C34=\"\",\"\",VLOOKUP($C34,男子ﾃﾞｰﾀ貼付ｼｰﾄ!$A$3:$W$201,22))","v":""},{"$f":"IF($C34=\"\",\"\",VLOOKUP($C34,男子ﾃﾞｰﾀ貼付ｼｰﾄ!$A$3:$W$201,18))","v":""},{"$f":"IF($C34=\"\",\"\",VLOOKUP($C34,男子ﾃﾞｰﾀ貼付ｼｰﾄ!$A$3:$W$201,16))","v":""},{"$f":"IF($C34=\"\",\"\",VLOOKUP($C34,男子ﾃﾞｰﾀ貼付ｼｰﾄ!$A$3:$W$201,12))","v":""},{"$f":"IF($C34=\"\",\"\",VLOOKUP($C34,男子ﾃﾞｰﾀ貼付ｼｰﾄ!$A$3:$W$201,9))","v":""}]
[28,null,null,{"$f":"IF($C35=\"\",\"\",VLOOKUP($C35,男子ﾃﾞｰﾀ貼付ｼｰﾄ!$A$3:$W$201,5))","v":""},{"$f":"IF($C35=\"\",\"\",VLOOKUP($C35,男子ﾃﾞｰﾀ貼付ｼｰﾄ!$A$3:$W$201,2))","v":""},{"$f":"IF($C35=\"\",\"\",VLOOKUP($C35,男子ﾃﾞｰﾀ貼付ｼｰﾄ!$A$3:$W$201,3))","v":""},"男",{"$f":"IF($C35=\"\",\"\",VLOOKUP($C35,男子ﾃﾞｰﾀ貼付ｼｰﾄ!$A$3:$W$201,22))","v":""},{"$f":"IF($C35=\"\",\"\",VLOOKUP($C35,男子ﾃﾞｰﾀ貼付ｼｰﾄ!$A$3:$W$201,18))","v":""},{"$f":"IF($C35=\"\",\"\",VLOOKUP($C35,男子ﾃﾞｰﾀ貼付ｼｰﾄ!$A$3:$W$201,16))","v":""},{"$f":"IF($C35=\"\",\"\",VLOOKUP($C35,男子ﾃﾞｰﾀ貼付ｼｰﾄ!$A$3:$W$201,12))","v":""},{"$f":"IF($C35=\"\",\"\",VLOOKUP($C35,男子ﾃﾞｰﾀ貼付ｼｰﾄ!$A$3:$W$201,9))","v":""}]
[29,null,null,{"$f":"IF($C36=\"\",\"\",VLOOKUP($C36,男子ﾃﾞｰﾀ貼付ｼｰﾄ!$A$3:$W$201,5))","v":""},{"$f":"IF($C36=\"\",\"\",VLOOKUP($C36,男子ﾃﾞｰﾀ貼付ｼｰﾄ!$A$3:$W$201,2))","v":""},{"$f":"IF($C36=\"\",\"\",VLOOKUP($C36,男子ﾃﾞｰﾀ貼付ｼｰﾄ!$A$3:$W$201,3))","v":""},"男",{"$f":"IF($C36=\"\",\"\",VLOOKUP($C36,男子ﾃﾞｰﾀ貼付ｼｰﾄ!$A$3:$W$201,22))","v":""},{"$f":"IF($C36=\"\",\"\",VLOOKUP($C36,男子ﾃﾞｰﾀ貼付ｼｰﾄ!$A$3:$W$201,18))","v":""},{"$f":"IF($C36=\"\",\"\",VLOOKUP($C36,男子ﾃﾞｰﾀ貼付ｼｰﾄ!$A$3:$W$201,16))","v":""},{"$f":"IF($C36=\"\",\"\",VLOOKUP($C36,男子ﾃﾞｰﾀ貼付ｼｰﾄ!$A$3:$W$201,12))","v":""},{"$f":"IF($C36=\"\",\"\",VLOOKUP($C36,男子ﾃﾞｰﾀ貼付ｼｰﾄ!$A$3:$W$201,9))","v":""}]
[30,null,null,{"$f":"IF($C37=\"\",\"\",VLOOKUP($C37,男子ﾃﾞｰﾀ貼付ｼｰﾄ!$A$3:$W$201,5))","v":""},{"$f":"IF($C37=\"\",\"\",VLOOKUP($C37,男子ﾃﾞｰﾀ貼付ｼｰﾄ!$A$3:$W$201,2))","v":""},{"$f":"IF($C37=\"\",\"\",VLOOKUP($C37,男子ﾃﾞｰﾀ貼付ｼｰﾄ!$A$3:$W$201,3))","v":""},"男",{"$f":"IF($C37=\"\",\"\",VLOOKUP($C37,男子ﾃﾞｰﾀ貼付ｼｰﾄ!$A$3:$W$201,22))","v":""},{"$f":"IF($C37=\"\",\"\",VLOOKUP($C37,男子ﾃﾞｰﾀ貼付ｼｰﾄ!$A$3:$W$201,18))","v":""},{"$f":"IF($C37=\"\",\"\",VLOOKUP($C37,男子ﾃﾞｰﾀ貼付ｼｰﾄ!$A$3:$W$201,16))","v":""},{"$f":"IF($C37=\"\",\"\",VLOOKUP($C37,男子ﾃﾞｰﾀ貼付ｼｰﾄ!$A$3:$W$201,12))","v":""},{"$f":"IF($C37=\"\",\"\",VLOOKUP($C37,男子ﾃﾞｰﾀ貼付ｼｰﾄ!$A$3:$W$201,9))","v":""}]
[31,null,null,{"$f":"IF($C38=\"\",\"\",VLOOKUP($C38,男子ﾃﾞｰﾀ貼付ｼｰﾄ!$A$3:$W$201,5))","v":""},{"$f":"IF($C38=\"\",\"\",VLOOKUP($C38,男子ﾃﾞｰﾀ貼付ｼｰﾄ!$A$3:$W$201,2))","v":""},{"$f":"IF($C38=\"\",\"\",VLOOKUP($C38,男子ﾃﾞｰﾀ貼付ｼｰﾄ!$A$3:$W$201,3))","v":""},"男",{"$f":"IF($C38=\"\",\"\",VLOOKUP($C38,男子ﾃﾞｰﾀ貼付ｼｰﾄ!$A$3:$W$201,22))","v":""},{"$f":"IF($C38=\"\",\"\",VLOOKUP($C38,男子ﾃﾞｰﾀ貼付ｼｰﾄ!$A$3:$W$201,18))","v":""},{"$f":"IF($C38=\"\",\"\",VLOOKUP($C38,男子ﾃﾞｰﾀ貼付ｼｰﾄ!$A$3:$W$201,16))","v":""},{"$f":"IF($C38=\"\",\"\",VLOOKUP($C38,男子ﾃﾞｰﾀ貼付ｼｰﾄ!$A$3:$W$201,12))","v":""},{"$f":"IF($C38=\"\",\"\",VLOOKUP($C38,男子ﾃﾞｰﾀ貼付ｼｰﾄ!$A$3:$W$201,9))","v":""}]
[32,null,null,{"$f":"IF($C39=\"\",\"\",VLOOKUP($C39,男子ﾃﾞｰﾀ貼付ｼｰﾄ!$A$3:$W$201,5))","v":""},{"$f":"IF($C39=\"\",\"\",VLOOKUP($C39,男子ﾃﾞｰﾀ貼付ｼｰﾄ!$A$3:$W$201,2))","v":""},{"$f":"IF($C39=\"\",\"\",VLOOKUP($C39,男子ﾃﾞｰﾀ貼付ｼｰﾄ!$A$3:$W$201,3))","v":""},"男",{"$f":"IF($C39=\"\",\"\",VLOOKUP($C39,男子ﾃﾞｰﾀ貼付ｼｰﾄ!$A$3:$W$201,22))","v":""},{"$f":"IF($C39=\"\",\"\",VLOOKUP($C39,男子ﾃﾞｰﾀ貼付ｼｰﾄ!$A$3:$W$201,18))","v":""},{"$f":"IF($C39=\"\",\"\",VLOOKUP($C39,男子ﾃﾞｰﾀ貼付ｼｰﾄ!$A$3:$W$201,16))","v":""},{"$f":"IF($C39=\"\",\"\",VLOOKUP($C39,男子ﾃﾞｰﾀ貼付ｼｰﾄ!$A$3:$W$201,12))","v":""},{"$f":"IF($C39=\"\",\"\",VLOOKUP($C39,男子ﾃﾞｰﾀ貼付ｼｰﾄ!$A$3:$W$201,9))","v":""}]
[33,null,null,{"$f":"IF($C40=\"\",\"\",VLOOKUP($C40,男子ﾃﾞｰﾀ貼付ｼｰﾄ!$A$3:$W$201,5))","v":""},{"$f":"IF($C40=\"\",\"\",VLOOKUP($C40,男子ﾃﾞｰﾀ貼付ｼｰﾄ!$A$3:$W$201,2))","v":""},{"$f":"IF($C40=\"\",\"\",VLOOKUP($C40,男子ﾃﾞｰﾀ貼付ｼｰﾄ!$A$3:$W$201,3))","v":""},"男",{"$f":"IF($C40=\"\",\"\",VLOOKUP($C40,男子ﾃﾞｰﾀ貼付ｼｰﾄ!$A$3:$W$201,22))","v":""},{"$f":"IF($C40=\"\",\"\",VLOOKUP($C40,男子ﾃﾞｰﾀ貼付ｼｰﾄ!$A$3:$W$201,18))","v":""},{"$f":"IF($C40=\"\",\"\",VLOOKUP($C40,男子ﾃﾞｰﾀ貼付ｼｰﾄ!$A$3:$W$201,16))","v":""},{"$f":"IF($C40=\"\",\"\",VLOOKUP($C40,男子ﾃﾞｰﾀ貼付ｼｰﾄ!$A$3:$W$201,12))","v":""},{"$f":"IF($C40=\"\",\"\",VLOOKUP($C40,男子ﾃﾞｰﾀ貼付ｼｰﾄ!$A$3:$W$201,9))","v":""}]
[34,null,null,{"$f":"IF($C41=\"\",\"\",VLOOKUP($C41,男子ﾃﾞｰﾀ貼付ｼｰﾄ!$A$3:$W$201,5))","v":""},{"$f":"IF($C41=\"\",\"\",VLOOKUP($C41,男子ﾃﾞｰﾀ貼付ｼｰﾄ!$A$3:$W$201,2))","v":""},{"$f":"IF($C41=\"\",\"\",VLOOKUP($C41,男子ﾃﾞｰﾀ貼付ｼｰﾄ!$A$3:$W$201,3))","v":""},"男",{"$f":"IF($C41=\"\",\"\",VLOOKUP($C41,男子ﾃﾞｰﾀ貼付ｼｰﾄ!$A$3:$W$201,22))","v":""},{"$f":"IF($C41=\"\",\"\",VLOOKUP($C41,男子ﾃﾞｰﾀ貼付ｼｰﾄ!$A$3:$W$201,18))","v":""},{"$f":"IF($C41=\"\",\"\",VLOOKUP($C41,男子ﾃﾞｰﾀ貼付ｼｰﾄ!$A$3:$W$201,16))","v":""},{"$f":"IF($C41=\"\",\"\",VLOOKUP($C41,男子ﾃﾞｰﾀ貼付ｼｰﾄ!$A$3:$W$201,12))","v":""},{"$f":"IF($C41=\"\",\"\",VLOOKUP($C41,男子ﾃﾞｰﾀ貼付ｼｰﾄ!$A$3:$W$201,9))","v":""}]
[35,null,null,{"$f":"IF($C42=\"\",\"\",VLOOKUP($C42,男子ﾃﾞｰﾀ貼付ｼｰﾄ!$A$3:$W$201,5))","v":""},{"$f":"IF($C42=\"\",\"\",VLOOKUP($C42,男子ﾃﾞｰﾀ貼付ｼｰﾄ!$A$3:$W$201,2))","v":""},{"$f":"IF($C42=\"\",\"\",VLOOKUP($C42,男子ﾃﾞｰﾀ貼付ｼｰﾄ!$A$3:$W$201,3))","v":""},"男",{"$f":"IF($C42=\"\",\"\",VLOOKUP($C42,男子ﾃﾞｰﾀ貼付ｼｰﾄ!$A$3:$W$201,22))","v":""},{"$f":"IF($C42=\"\",\"\",VLOOKUP($C42,男子ﾃﾞｰﾀ貼付ｼｰﾄ!$A$3:$W$201,18))","v":""},{"$f":"IF($C42=\"\",\"\",VLOOKUP($C42,男子ﾃﾞｰﾀ貼付ｼｰﾄ!$A$3:$W$201,16))","v":""},{"$f":"IF($C42=\"\",\"\",VLOOKUP($C42,男子ﾃﾞｰﾀ貼付ｼｰﾄ!$A$3:$W$201,12))","v":""},{"$f":"IF($C42=\"\",\"\",VLOOKUP($C42,男子ﾃﾞｰﾀ貼付ｼｰﾄ!$A$3:$W$201,9))","v":""}]
[36,null,null,{"$f":"IF($C43=\"\",\"\",VLOOKUP($C43,男子ﾃﾞｰﾀ貼付ｼｰﾄ!$A$3:$W$201,5))","v":""},{"$f":"IF($C43=\"\",\"\",VLOOKUP($C43,男子ﾃﾞｰﾀ貼付ｼｰﾄ!$A$3:$W$201,2))","v":""},{"$f":"IF($C43=\"\",\"\",VLOOKUP($C43,男子ﾃﾞｰﾀ貼付ｼｰﾄ!$A$3:$W$201,3))","v":""},"男",{"$f":"IF($C43=\"\",\"\",VLOOKUP($C43,男子ﾃﾞｰﾀ貼付ｼｰﾄ!$A$3:$W$201,22))","v":""},{"$f":"IF($C43=\"\",\"\",VLOOKUP($C43,男子ﾃﾞｰﾀ貼付ｼｰﾄ!$A$3:$W$201,18))","v":""},{"$f":"IF($C43=\"\",\"\",VLOOKUP($C43,男子ﾃﾞｰﾀ貼付ｼｰﾄ!$A$3:$W$201,16))","v":""},{"$f":"IF($C43=\"\",\"\",VLOOKUP($C43,男子ﾃﾞｰﾀ貼付ｼｰﾄ!$A$3:$W$201,12))","v":""},{"$f":"IF($C43=\"\",\"\",VLOOKUP($C43,男子ﾃﾞｰﾀ貼付ｼｰﾄ!$A$3:$W$201,9))","v":""}]
[37,null,null,{"$f":"IF($C44=\"\",\"\",VLOOKUP($C44,男子ﾃﾞｰﾀ貼付ｼｰﾄ!$A$3:$W$201,5))","v":""},{"$f":"IF($C44=\"\",\"\",VLOOKUP($C44,男子ﾃﾞｰﾀ貼付ｼｰﾄ!$A$3:$W$201,2))","v":""},{"$f":"IF($C44=\"\",\"\",VLOOKUP($C44,男子ﾃﾞｰﾀ貼付ｼｰﾄ!$A$3:$W$201,3))","v":""},"男",{"$f":"IF($C44=\"\",\"\",VLOOKUP($C44,男子ﾃﾞｰﾀ貼付ｼｰﾄ!$A$3:$W$201,22))","v":""},{"$f":"IF($C44=\"\",\"\",VLOOKUP($C44,男子ﾃﾞｰﾀ貼付ｼｰﾄ!$A$3:$W$201,18))","v":""},{"$f":"IF($C44=\"\",\"\",VLOOKUP($C44,男子ﾃﾞｰﾀ貼付ｼｰﾄ!$A$3:$W$201,16))","v":""},{"$f":"IF($C44=\"\",\"\",VLOOKUP($C44,男子ﾃﾞｰﾀ貼付ｼｰﾄ!$A$3:$W$201,12))","v":""},{"$f":"IF($C44=\"\",\"\",VLOOKUP($C44,男子ﾃﾞｰﾀ貼付ｼｰﾄ!$A$3:$W$201,9))","v":""}]
[38,null,null,{"$f":"IF($C45=\"\",\"\",VLOOKUP($C45,男子ﾃﾞｰﾀ貼付ｼｰﾄ!$A$3:$W$201,5))","v":""},{"$f":"IF($C45=\"\",\"\",VLOOKUP($C45,男子ﾃﾞｰﾀ貼付ｼｰﾄ!$A$3:$W$201,2))","v":""},{"$f":"IF($C45=\"\",\"\",VLOOKUP($C45,男子ﾃﾞｰﾀ貼付ｼｰﾄ!$A$3:$W$201,3))","v":""},"男",{"$f":"IF($C45=\"\",\"\",VLOOKUP($C45,男子ﾃﾞｰﾀ貼付ｼｰﾄ!$A$3:$W$201,22))","v":""},{"$f":"IF($C45=\"\",\"\",VLOOKUP($C45,男子ﾃﾞｰﾀ貼付ｼｰﾄ!$A$3:$W$201,18))","v":""},{"$f":"IF($C45=\"\",\"\",VLOOKUP($C45,男子ﾃﾞｰﾀ貼付ｼｰﾄ!$A$3:$W$201,16))","v":""},{"$f":"IF($C45=\"\",\"\",VLOOKUP($C45,男子ﾃﾞｰﾀ貼付ｼｰﾄ!$A$3:$W$201,12))","v":""},{"$f":"IF($C45=\"\",\"\",VLOOKUP($C45,男子ﾃﾞｰﾀ貼付ｼｰﾄ!$A$3:$W$201,9))","v":""}]
[39,null,null,{"$f":"IF($C46=\"\",\"\",VLOOKUP($C46,男子ﾃﾞｰﾀ貼付ｼｰﾄ!$A$3:$W$201,5))","v":""},{"$f":"IF($C46=\"\",\"\",VLOOKUP($C46,男子ﾃﾞｰﾀ貼付ｼｰﾄ!$A$3:$W$201,2))","v":""},{"$f":"IF($C46=\"\",\"\",VLOOKUP($C46,男子ﾃﾞｰﾀ貼付ｼｰﾄ!$A$3:$W$201,3))","v":""},"男",{"$f":"IF($C46=\"\",\"\",VLOOKUP($C46,男子ﾃﾞｰﾀ貼付ｼｰﾄ!$A$3:$W$201,22))","v":""},{"$f":"IF($C46=\"\",\"\",VLOOKUP($C46,男子ﾃﾞｰﾀ貼付ｼｰﾄ!$A$3:$W$201,18))","v":""},{"$f":"IF($C46=\"\",\"\",VLOOKUP($C46,男子ﾃﾞｰﾀ貼付ｼｰﾄ!$A$3:$W$201,16))","v":""},{"$f":"IF($C46=\"\",\"\",VLOOKUP($C46,男子ﾃﾞｰﾀ貼付ｼｰﾄ!$A$3:$W$201,12))","v":""},{"$f":"IF($C46=\"\",\"\",VLOOKUP($C46,男子ﾃﾞｰﾀ貼付ｼｰﾄ!$A$3:$W$201,9))","v":""}]
[40,null,null,{"$f":"IF($C47=\"\",\"\",VLOOKUP($C47,男子ﾃﾞｰﾀ貼付ｼｰﾄ!$A$3:$W$201,5))","v":""},{"$f":"IF($C47=\"\",\"\",VLOOKUP($C47,男子ﾃﾞｰﾀ貼付ｼｰﾄ!$A$3:$W$201,2))","v":""},{"$f":"IF($C47=\"\",\"\",VLOOKUP($C47,男子ﾃﾞｰﾀ貼付ｼｰﾄ!$A$3:$W$201,3))","v":""},"男",{"$f":"IF($C47=\"\",\"\",VLOOKUP($C47,男子ﾃﾞｰﾀ貼付ｼｰﾄ!$A$3:$W$201,22))","v":""},{"$f":"IF($C47=\"\",\"\",VLOOKUP($C47,男子ﾃﾞｰﾀ貼付ｼｰﾄ!$A$3:$W$201,18))","v":""},{"$f":"IF($C47=\"\",\"\",VLOOKUP($C47,男子ﾃﾞｰﾀ貼付ｼｰﾄ!$A$3:$W$201,16))","v":""},{"$f":"IF($C47=\"\",\"\",VLOOKUP($C47,男子ﾃﾞｰﾀ貼付ｼｰﾄ!$A$3:$W$201,12))","v":""},{"$f":"IF($C47=\"\",\"\",VLOOKUP($C47,男子ﾃﾞｰﾀ貼付ｼｰﾄ!$A$3:$W$201,9))","v":""}]
[]
["※記入方法について",null,null,null,null,null,null,"※ＩＤカードの発行枚数について",null,null,null,"一般",2000,null,"（種目）",null,{"$f":"N49*M49","v":0}]
["１．ナンバーの県欄には、各県登録ナンバーを入力する。"]
["　　北ナンバーは、各県陸協で割り振るので入力しない。",null,null,null,null,null,null,null,"監督・コーチ(ﾏﾈｰｼﾞｬｰ含む)について",null,null,"高校生",1500,null,"（種目）",null,{"$f":"N51*M51","v":0}]
["２．自己最高記録は2020.1.1～大会申込締切までの最高記録を記入",null,null,null,null,null,null,null,"以下のように配布します。"]
[null," 標準記録突破者は、この欄に記入する。",null,null,null,null,null,null,null,null,null,"中学生",1000,null,"（種目）",null,{"$f":"N53*M53","v":0}]
["３．種目の年、月は記録を出した年を西暦下二けた(20or21)と月の４桁で記入",null,null,null,null,null,null,null,"参加選手数","発行枚数"]
["４．不足する場合は、27行と48行の間の行を再表示してください。",null,null,null,null,null,null,null,"１～２名","２枚",null,"混成",3000,null,"（種目）",null,{"$f":"N55*M55","v":0}]
["　　それでも足りない場合は、行をコピーして挿入してください。",null,null,null,null,null,null,null,"３～６名","３枚",null,"　"]
["５．申込書記入例を参考に種目等を記入してください。","個人情報保護について",null,null,null,null,null,null,"７～１５名","４枚",null,"リレー",3000,null,"（種目）",null,{"$f":"N57*M57","v":0}]
["※","ここに書かれている内容については本大会の運営だけに利用し、",null,null,null,null,null,null,"１６名～","５枚"]
[null,"その他、外部への情報供与は一切行いません。",null,null,null,null,null,null,null,null,null,null,null,null,null,"合計",{"$f":"Q49+Q51+Q53+Q55+Q57","v":0}]
[]
[null,"所属団体",null,null,null,null,null,null,null,null,null,null,"記載責任者（携帯電話番号）"]
[null,null,null,null,null,null,null,null,null,null,null,null,"氏名"]
[null,null,null,null,null,null,null,null,null,null,null,null,"（",null,null,null,null,"）"]
[null,"住所","〒"]
[null,null,null,null,null,null,null,null,null,null,null,null,"学校の場合は、学校長出場承認印"]
[null,"電話"]
[null,"FAX",null,null,null,null,null,null,null,null,null,null,null,null,null,null,null,"印"]

{"sheet":"女子ﾃﾞｰﾀ貼付ｼｰﾄ","index":5,"n_rows":201,"n_cols":24,"rows_kept":201,"cut":false,"hidden":false,"merged":[[1,0,1,2]]}
[]
["↓この3列には貼り付けないで！↓",null,null,"JAAF ID","会員名","会員名\nカナ","会員名\n英字(姓)","会員名\n英字(名)","国籍","性\n別","登録都道\n府県コード","登録都道\n府県名","団体ID","団体名","団体名\nカナ","団体名\n略称","団体名\n略称カナ","生年月日","都道府県(学連)登録番号","旧団体\nコード","備考","学年","団体\n区分","陸連団体"]
[{"$f":"IF(S3=\"\",\"\",S3)","v":""},{"$f":"IF(F3=\"\",\"\",ASC(F3))","v":""},{"$f":"IF(G3=\"\",\"\",G3&\" \"&H3)","v":""}]
["","",""]
["","",""]
["","",""]
["","",""]
["","",""]
["","",""]
["","",""]
["","",""]
["","",""]
["","",""]
["","",""]
["","",""]
["","",""]
["","",""]
["","",""]
["","",""]
["","",""]
["","",""]
["","",""]
["","",""]
["","",""]
["","",""]
["","",""]
["","",""]
["","",""]
["","",""]
["","",""]
["","",""]
["","",""]
["","",""]
["","",""]
[{"$f":"IF(S35=\"\",\"\",S35)","v":""},{"$f":"IF(F35=\"\",\"\",ASC(F35))","v":""},{"$f":"IF(G35=\"\",\"\",G35&\" \"&H35)","v":""}]
["","",""]
["","",""]
["","",""]
["","",""]
["","",""]
["","",""]
["","",""]
["","",""]
["","",""]
["","",""]
["","",""]
["","",""]
["","",""]
["","",""]
["","",""]
["","",""]
["","",""]
["","",""]
["","",""]
["","",""]
["","",""]
["","",""]
["","",""]
["","",""]
["","",""]
["","",""]
["","",""]
["","",""]
["","",""]
["","",""]
["","",""]
[{"$f":"IF(S67=\"\",\"\",S67)","v":""},{"$f":"IF(F67=\"\",\"\",ASC(F67))","v":""},{"$f":"IF(G67=\"\",\"\",G67&\" \"&H67)","v":""}]
["","",""]
["","",""]
["","",""]
["","",""]
["","",""]
["","",""]
["","",""]
["","",""]
["","",""]
["","",""]
["","",""]
["","",""]
["","",""]
["","",""]
["","",""]
["","",""]
["","",""]
["","",""]
["","",""]
["","",""]
["","",""]
["","",""]
["","",""]
["","",""]
["","",""]
["","",""]
["","",""]
["","",""]
["","",""]
["","",""]
["","",""]
[{"$f":"IF(S99=\"\",\"\",S99)","v":""},{"$f":"IF(F99=\"\",\"\",ASC(F99))","v":""},{"$f":"IF(G99=\"\",\"\",G99&\" \"&H99)","v":""}]
["","",""]
["","",""]
["","",""]
["","",""]
["","",""]
["","",""]
["","",""]
["","",""]
["","",""]
["","",""]
["","",""]
["","",""]
["","",""]
["","",""]
["","",""]
["","",""]
["","",""]
["","",""]
["","",""]
["","",""]
["","",""]
["","",""]
["","",""]
["","",""]
["","",""]
["","",""]
["","",""]
["","",""]
["","",""]
["","",""]
["","",""]
[{"$f":"IF(S131=\"\",\"\",S131)","v":""},{"$f":"IF(F131=\"\",\"\",ASC(F131))","v":""},{"$f":"IF(G131=\"\",\"\",G131&\" \"&H131)","v":""}]
["","",""]
["","",""]
["","",""]
["","",""]
["","",""]
["","",""]
["","",""]
["","",""]
["","",""]
["","",""]
["","",""]
["","",""]
["","",""]
["","",""]
["","",""]
["","",""]
["","",""]
["","",""]
["","",""]
["","",""]
["","",""]
["","",""]
["","",""]
["","",""]
["","",""]
["","",""]
["","",""]
["","",""]
["","",""]
["","",""]
["","",""]
[{"$f":"IF(S163=\"\",\"\",S163)","v":""},{"$f":"IF(F163=\"\",\"\",ASC(F163))","v":""},{"$f":"IF(G163=\"\",\"\",G163&\" \"&H163)","v":""}]
["","",""]
["","",""]
["","",""]
["","",""]
["","",""]
["","",""]
["","",""]
["","",""]
["","",""]
["","",""]
["","",""]
["","",""]
["","",""]
["","",""]
["","",""]
["","",""]
["","",""]
["","",""]
["","",""]
["","",""]
["","",""]
["","",""]
["","",""]
["","",""]
["","",""]
["","",""]
["","",""]
["","",""]
["","",""]
["","",""]
["","",""]
[{"$f":"IF(S195=\"\",\"\",S195)","v":""},{"$f":"IF(F195=\"\",\"\",ASC(F195))","v":""},{"$f":"IF(G195=\"\",\"\",G195&\" \"&H195)","v":""}]
["","",""]
["","",""]
["","",""]
["","",""]
["","",""]
["","",""]

{"sheet":"【様式1-2】女子申込書","index":6,"n_rows":68,"n_cols":22,"rows_kept":68,"cut":false,"hidden":false,"merged":[[61,13,61,16],[62,13,62,16],[66,3,66,8],[1,5,1,12],[3,5,3,12],[5,16,5,20],[67,3,67,8],[64,3,64,4],[65,3,65,8],[5,5,6,5],[5,11,6,11],[5,7,6,7],[5,9,6,9],[0,20,0,21],[5,21,6,21],[5,0,6,0],[5,1,5,2],[5,3,6,3],[5,4,6,4],[5,6,6,6],[1,15,1,17],[5,12,5,15]]}
[null,null,null,null,null,null,null,null,null,null,null,null,null,null,null,null,null,null,null,null,"【様式1-2】"]
[null,null,null,"大会名",null,"第６５回北陸地域陸上競技選手権大会",null,null,null,null,null,null,null,null,null,"参加申込一覧表（　女子　）"]
[]
[null,null,null,"所属学校・団体名 ",null,null,null,null,null,null,null,null,null,{"$f":"IF(F4=\"\",\"\",女子ﾃﾞｰﾀ貼付ｼｰﾄ!T3)","v":""}]
[]
[null,"ﾅﾝﾊﾞｰ",null,"氏　名","ﾌﾘｶﾞﾅ\n(半角ｶﾀｶﾅ)","ｱﾙﾌｧﾍﾞｯﾄ表記","性別","学年","生年月日","所属","登録","国籍","各県選手権決勝の記録・順位",null,null,null,"有効期間内の自己最高記録（標準突破記録の記載を含む）",null,null,null,null,"備考"]
[null,"北","県",null,null,null,null,null,"西暦8桁の数字",null,"都道府県",null,"種目","記録","順位","年月(4桁)","記録","順位","年月(4桁)","大会名","場所"]
[1,null,null,{"$f":"IF($C8=\"\",\"\",VLOOKUP($C8,女子ﾃﾞｰﾀ貼付ｼｰﾄ!$A$3:$W$201,5))","v":""},{"$f":"IF($C8=\"\",\"\",VLOOKUP($C8,女子ﾃﾞｰﾀ貼付ｼｰﾄ!$A$3:$W$201,2))","v":""},{"$f":"IF($C8=\"\",\"\",VLOOKUP($C8,女子ﾃﾞｰﾀ貼付ｼｰﾄ!$A$3:$W$201,3))","v":""},"女",{"$f":"IF($C8=\"\",\"\",VLOOKUP($C8,女子ﾃﾞｰﾀ貼付ｼｰﾄ!$A$3:$W$201,22))","v":""},{"$f":"IF($C8=\"\",\"\",VLOOKUP($C8,女子ﾃﾞｰﾀ貼付ｼｰﾄ!$A$3:$W$201,18))","v":""},{"$f":"IF($C8=\"\",\"\",VLOOKUP($C8,女子ﾃﾞｰﾀ貼付ｼｰﾄ!$A$3:$W$201,16))","v":""},{"$f":"IF($C8=\"\",\"\",VLOOKUP($C8,女子ﾃﾞｰﾀ貼付ｼｰﾄ!$A$3:$W$201,12))","v":""},{"$f":"IF($C8=\"\",\"\",VLOOKUP($C8,女子ﾃﾞｰﾀ貼付ｼｰﾄ!$A$3:$W$201,9))","v":""}]
[2,null,null,{"$f":"IF($C9=\"\",\"\",VLOOKUP($C9,女子ﾃﾞｰﾀ貼付ｼｰﾄ!$A$3:$W$201,5))","v":""},{"$f":"IF($C9=\"\",\"\",VLOOKUP($C9,女子ﾃﾞｰﾀ貼付ｼｰﾄ!$A$3:$W$201,2))","v":""},{"$f":"IF($C9=\"\",\"\",VLOOKUP($C9,女子ﾃﾞｰﾀ貼付ｼｰﾄ!$A$3:$W$201,3))","v":""},"女",{"$f":"IF($C9=\"\",\"\",VLOOKUP($C9,女子ﾃﾞｰﾀ貼付ｼｰﾄ!$A$3:$W$201,22))","v":""},{"$f":"IF($C9=\"\",\"\",VLOOKUP($C9,女子ﾃﾞｰﾀ貼付ｼｰﾄ!$A$3:$W$201,18))","v":""},{"$f":"IF($C9=\"\",\"\",VLOOKUP($C9,女子ﾃﾞｰﾀ貼付ｼｰﾄ!$A$3:$W$201,16))","v":""},{"$f":"IF($C9=\"\",\"\",VLOOKUP($C9,女子ﾃﾞｰﾀ貼付ｼｰﾄ!$A$3:$W$201,12))","v":""},{"$f":"IF($C9=\"\",\"\",VLOOKUP($C9,女子ﾃﾞｰﾀ貼付ｼｰﾄ!$A$3:$W$201,9))","v":""}]
[3,null,null,{"$f":"IF($C10=\"\",\"\",VLOOKUP($C10,女子ﾃﾞｰﾀ貼付ｼｰﾄ!$A$3:$W$201,5))","v":""},{"$f":"IF($C10=\"\",\"\",VLOOKUP($C10,女子ﾃﾞｰﾀ貼付ｼｰﾄ!$A$3:$W$201,2))","v":""},{"$f":"IF($C10=\"\",\"\",VLOOKUP($C10,女子ﾃﾞｰﾀ貼付ｼｰﾄ!$A$3:$W$201,3))","v":""},"女",{"$f":"IF($C10=\"\",\"\",VLOOKUP($C10,女子ﾃﾞｰﾀ貼付ｼｰﾄ!$A$3:$W$201,22))","v":""},{"$f":"IF($C10=\"\",\"\",VLOOKUP($C10,女子ﾃﾞｰﾀ貼付ｼｰﾄ!$A$3:$W$201,18))","v":""},{"$f":"IF($C10=\"\",\"\",VLOOKUP($C10,女子ﾃﾞｰﾀ貼付ｼｰﾄ!$A$3:$W$201,16))","v":""},{"$f":"IF($C10=\"\",\"\",VLOOKUP($C10,女子ﾃﾞｰﾀ貼付ｼｰﾄ!$A$3:$W$201,12))","v":""},{"$f":"IF($C10=\"\",\"\",VLOOKUP($C10,女子ﾃﾞｰﾀ貼付ｼｰﾄ!$A$3:$W$201,9))","v":""}]
[4,null,null,{"$f":"IF($C11=\"\",\"\",VLOOKUP($C11,女子ﾃﾞｰﾀ貼付ｼｰﾄ!$A$3:$W$201,5))","v":""},{"$f":"IF($C11=\"\",\"\",VLOOKUP($C11,女子ﾃﾞｰﾀ貼付ｼｰﾄ!$A$3:$W$201,2))","v":""},{"$f":"IF($C11=\"\",\"\",VLOOKUP($C11,女子ﾃﾞｰﾀ貼付ｼｰﾄ!$A$3:$W$201,3))","v":""},"女",{"$f":"IF($C11=\"\",\"\",VLOOKUP($C11,女子ﾃﾞｰﾀ貼付ｼｰﾄ!$A$3:$W$201,22))","v":""},{"$f":"IF($C11=\"\",\"\",VLOOKUP($C11,女子ﾃﾞｰﾀ貼付ｼｰﾄ!$A$3:$W$201,18))","v":""},{"$f":"IF($C11=\"\",\"\",VLOOKUP($C11,女子ﾃﾞｰﾀ貼付ｼｰﾄ!$A$3:$W$201,16))","v":""},{"$f":"IF($C11=\"\",\"\",VLOOKUP($C11,女子ﾃﾞｰﾀ貼付ｼｰﾄ!$A$3:$W$201,12))","v":""},{"$f":"IF($C11=\"\",\"\",VLOOKUP($C11,女子ﾃﾞｰﾀ貼付ｼｰﾄ!$A$3:$W$201,9))","v":""}]
[5,null,null,{"$f":"IF($C12=\"\",\"\",VLOOKUP($C12,女子ﾃﾞｰﾀ貼付ｼｰﾄ!$A$3:$W$201,5))","v":""},{"$f":"IF($C12=\"\",\"\",VLOOKUP($C12,女子ﾃﾞｰﾀ貼付ｼｰﾄ!$A$3:$W$201,2))","v":""},{"$f":"IF($C12=\"\",\"\",VLOOKUP($C12,女子ﾃﾞｰﾀ貼付ｼｰﾄ!$A$3:$W$201,3))","v":""},"女",{"$f":"IF($C12=\"\",\"\",VLOOKUP($C12,女子ﾃﾞｰﾀ貼付ｼｰﾄ!$A$3:$W$201,22))","v":""},{"$f":"IF($C12=\"\",\"\",VLOOKUP($C12,女子ﾃﾞｰﾀ貼付ｼｰﾄ!$A$3:$W$201,18))","v":""},{"$f":"IF($C12=\"\",\"\",VLOOKUP($C12,女子ﾃﾞｰﾀ貼付ｼｰﾄ!$A$3:$W$201,16))","v":""},{"$f":"IF($C12=\"\",\"\",VLOOKUP($C12,女子ﾃﾞｰﾀ貼付ｼｰﾄ!$A$3:$W$201,12))","v":""},{"$f":"IF($C12=\"\",\"\",VLOOKUP($C12,女子ﾃﾞｰﾀ貼付ｼｰﾄ!$A$3:$W$201,9))","v":""}]
[6,null,null,{"$f":"IF($C13=\"\",\"\",VLOOKUP($C13,女子ﾃﾞｰﾀ貼付ｼｰﾄ!$A$3:$W$201,5))","v":""},{"$f":"IF($C13=\"\",\"\",VLOOKUP($C13,女子ﾃﾞｰﾀ貼付ｼｰﾄ!$A$3:$W$201,2))","v":""},{"$f":"IF($C13=\"\",\"\",VLOOKUP($C13,女子ﾃﾞｰﾀ貼付ｼｰﾄ!$A$3:$W$201,3))","v":""},"女",{"$f":"IF($C13=\"\",\"\",VLOOKUP($C13,女子ﾃﾞｰﾀ貼付ｼｰﾄ!$A$3:$W$201,22))","v":""},{"$f":"IF($C13=\"\",\"\",VLOOKUP($C13,女子ﾃﾞｰﾀ貼付ｼｰﾄ!$A$3:$W$201,18))","v":""},{"$f":"IF($C13=\"\",\"\",VLOOKUP($C13,女子ﾃﾞｰﾀ貼付ｼｰﾄ!$A$3:$W$201,16))","v":""},{"$f":"IF($C13=\"\",\"\",VLOOKUP($C13,女子ﾃﾞｰﾀ貼付ｼｰﾄ!$A$3:$W$201,12))","v":""},{"$f":"IF($C13=\"\",\"\",VLOOKUP($C13,女子ﾃﾞｰﾀ貼付ｼｰﾄ!$A$3:$W$201,9))","v":""}]
[7,null,null,{"$f":"IF($C14=\"\",\"\",VLOOKUP($C14,女子ﾃﾞｰﾀ貼付ｼｰﾄ!$A$3:$W$201,5))","v":""},{"$f":"IF($C14=\"\",\"\",VLOOKUP($C14,女子ﾃﾞｰﾀ貼付ｼｰﾄ!$A$3:$W$201,2))","v":""},{"$f":"IF($C14=\"\",\"\",VLOOKUP($C14,女子ﾃﾞｰﾀ貼付ｼｰﾄ!$A$3:$W$201,3))","v":""},"女",{"$f":"IF($C14=\"\",\"\",VLOOKUP($C14,女子ﾃﾞｰﾀ貼付ｼｰﾄ!$A$3:$W$201,22))","v":""},{"$f":"IF($C14=\"\",\"\",VLOOKUP($C14,女子ﾃﾞｰﾀ貼付ｼｰﾄ!$A$3:$W$201,18))","v":""},{"$f":"IF($C14=\"\",\"\",VLOOKUP($C14,女子ﾃﾞｰﾀ貼付ｼｰﾄ!$A$3:$W$201,16))","v":""},{"$f":"IF($C14=\"\",\"\",VLOOKUP($C14,女子ﾃﾞｰﾀ貼付ｼｰﾄ!$A$3:$W$201,12))","v":""},{"$f":"IF($C14=\"\",\"\",VLOOKUP($C14,女子ﾃﾞｰﾀ貼付ｼｰﾄ!$A$3:$W$201,9))","v":""}]
[8,null,null,{"$f":"IF($C15=\"\",\"\",VLOOKUP($C15,女子ﾃﾞｰﾀ貼付ｼｰﾄ!$A$3:$W$201,5))","v":""},{"$f":"IF($C15=\"\",\"\",VLOOKUP($C15,女子ﾃﾞｰﾀ貼付ｼｰﾄ!$A$3:$W$201,2))","v":""},{"$f":"IF($C15=\"\",\"\",VLOOKUP($C15,女子ﾃﾞｰﾀ貼付ｼｰﾄ!$A$3:$W$201,3))","v":""},"女",{"$f":"IF($C15=\"\",\"\",VLOOKUP($C15,女子ﾃﾞｰﾀ貼付ｼｰﾄ!$A$3:$W$201,22))","v":""},{"$f":"IF($C15=\"\",\"\",VLOOKUP($C15,女子ﾃﾞｰﾀ貼付ｼｰﾄ!$A$3:$W$201,18))","v":""},{"$f":"IF($C15=\"\",\"\",VLOOKUP($C15,女子ﾃﾞｰﾀ貼付ｼｰﾄ!$A$3:$W$201,16))","v":""},{"$f":"IF($C15=\"\",\"\",VLOOKUP($C15,女子ﾃﾞｰﾀ貼付ｼｰﾄ!$A$3:$W$201,12))","v":""},{"$f":"IF($C15=\"\",\"\",VLOOKUP($C15,女子ﾃﾞｰﾀ貼付ｼｰﾄ!$A$3:$W$201,9))","v":""}]
[9,null,null,{"$f":"IF($C16=\"\",\"\",VLOOKUP($C16,女子ﾃﾞｰﾀ貼付ｼｰﾄ!$A$3:$W$201,5))","v":""},{"$f":"IF($C16=\"\",\"\",VLOOKUP($C16,女子ﾃﾞｰﾀ貼付ｼｰﾄ!$A$3:$W$201,2))","v":""},{"$f":"IF($C16=\"\",\"\",VLOOKUP($C16,女子ﾃﾞｰﾀ貼付ｼｰﾄ!$A$3:$W$201,3))","v":""},"女",{"$f":"IF($C16=\"\",\"\",VLOOKUP($C16,女子ﾃﾞｰﾀ貼付ｼｰﾄ!$A$3:$W$201,22))","v":""},{"$f":"IF($C16=\"\",\"\",VLOOKUP($C16,女子ﾃﾞｰﾀ貼付ｼｰﾄ!$A$3:$W$201,18))","v":""},{"$f":"IF($C16=\"\",\"\",VLOOKUP($C16,女子ﾃﾞｰﾀ貼付ｼｰﾄ!$A$3:$W$201,16))","v":""},{"$f":"IF($C16=\"\",\"\",VLOOKUP($C16,女子ﾃﾞｰﾀ貼付ｼｰﾄ!$A$3:$W$201,12))","v":""},{"$f":"IF($C16=\"\",\"\",VLOOKUP($C16,女子ﾃﾞｰﾀ貼付ｼｰﾄ!$A$3:$W$201,9))","v":""}]
[10,null,null,{"$f":"IF($C17=\"\",\"\",VLOOKUP($C17,女子ﾃﾞｰﾀ貼付ｼｰﾄ!$A$3:$W$201,5))","v":""},{"$f":"IF($C17=\"\",\"\",VLOOKUP($C17,女子ﾃﾞｰﾀ貼付ｼｰﾄ!$A$3:$W$201,2))","v":""},{"$f":"IF($C17=\"\",\"\",VLOOKUP($C17,女子ﾃﾞｰﾀ貼付ｼｰﾄ!$A$3:$W$201,3))","v":""},"女",{"$f":"IF($C17=\"\",\"\",VLOOKUP($C17,女子ﾃﾞｰﾀ貼付ｼｰﾄ!$A$3:$W$201,22))","v":""},{"$f":"IF($C17=\"\",\"\",VLOOKUP($C17,女子ﾃﾞｰﾀ貼付ｼｰﾄ!$A$3:$W$201,18))","v":""},{"$f":"IF($C17=\"\",\"\",VLOOKUP($C17,女子ﾃﾞｰﾀ貼付ｼｰﾄ!$A$3:$W$201,16))","v":""},{"$f":"IF($C17=\"\",\"\",VLOOKUP($C17,女子ﾃﾞｰﾀ貼付ｼｰﾄ!$A$3:$W$201,12))","v":""},{"$f":"IF($C17=\"\",\"\",VLOOKUP($C17,女子ﾃﾞｰﾀ貼付ｼｰﾄ!$A$3:$W$201,9))","v":""}]
[11,null,null,{"$f":"IF($C18=\"\",\"\",VLOOKUP($C18,女子ﾃﾞｰﾀ貼付ｼｰﾄ!$A$3:$W$201,5))","v":""},{"$f":"IF($C18=\"\",\"\",VLOOKUP($C18,女子ﾃﾞｰﾀ貼付ｼｰﾄ!$A$3:$W$201,2))","v":""},{"$f":"IF($C18=\"\",\"\",VLOOKUP($C18,女子ﾃﾞｰﾀ貼付ｼｰﾄ!$A$3:$W$201,3))","v":""},"女",{"$f":"IF($C18=\"\",\"\",VLOOKUP($C18,女子ﾃﾞｰﾀ貼付ｼｰﾄ!$A$3:$W$201,22))","v":""},{"$f":"IF($C18=\"\",\"\",VLOOKUP($C18,女子ﾃﾞｰﾀ貼付ｼｰﾄ!$A$3:$W$201,18))","v":""},{"$f":"IF($C18=\"\",\"\",VLOOKUP($C18,女子ﾃﾞｰﾀ貼付ｼｰﾄ!$A$3:$W$201,16))","v":""},{"$f":"IF($C18=\"\",\"\",VLOOKUP($C18,女子ﾃﾞｰﾀ貼付ｼｰﾄ!$A$3:$W$201,12))","v":""},{"$f":"IF($C18=\"\",\"\",VLOOKUP($C18,女子ﾃﾞｰﾀ貼付ｼｰﾄ!$A$3:$W$201,9))","v":""}]
[12,null,null,{"$f":"IF($C19=\"\",\"\",VLOOKUP($C19,女子ﾃﾞｰﾀ貼付ｼｰﾄ!$A$3:$W$201,5))","v":""},{"$f":"IF($C19=\"\",\"\",VLOOKUP($C19,女子ﾃﾞｰﾀ貼付ｼｰﾄ!$A$3:$W$201,2))","v":""},{"$f":"IF($C19=\"\",\"\",VLOOKUP($C19,女子ﾃﾞｰﾀ貼付ｼｰﾄ!$A$3:$W$201,3))","v":""},"女",{"$f":"IF($C19=\"\",\"\",VLOOKUP($C19,女子ﾃﾞｰﾀ貼付ｼｰﾄ!$A$3:$W$201,22))","v":""},{"$f":"IF($C19=\"\",\"\",VLOOKUP($C19,女子ﾃﾞｰﾀ貼付ｼｰﾄ!$A$3:$W$201,18))","v":""},{"$f":"IF($C19=\"\",\"\",VLOOKUP($C19,女子ﾃﾞｰﾀ貼付ｼｰﾄ!$A$3:$W$201,16))","v":""},{"$f":"IF($C19=\"\",\"\",VLOOKUP($C19,女子ﾃﾞｰﾀ貼付ｼｰﾄ!$A$3:$W$201,12))","v":""},{"$f":"IF($C19=\"\",\"\",VLOOKUP($C19,女子ﾃﾞｰﾀ貼付ｼｰﾄ!$A$3:$W$201,9))","v":""}]
[13,null,null,{"$f":"IF($C20=\"\",\"\",VLOOKUP($C20,女子ﾃﾞｰﾀ貼付ｼｰﾄ!$A$3:$W$201,5))","v":""},{"$f":"IF($C20=\"\",\"\",VLOOKUP($C20,女子ﾃﾞｰﾀ貼付ｼｰﾄ!$A$3:$W$201,2))","v":""},{"$f":"IF($C20=\"\",\"\",VLOOKUP($C20,女子ﾃﾞｰﾀ貼付ｼｰﾄ!$A$3:$W$201,3))","v":""},"女",{"$f":"IF($C20=\"\",\"\",VLOOKUP($C20,女子ﾃﾞｰﾀ貼付ｼｰﾄ!$A$3:$W$201,22))","v":""},{"$f":"IF($C20=\"\",\"\",VLOOKUP($C20,女子ﾃﾞｰﾀ貼付ｼｰﾄ!$A$3:$W$201,18))","v":""},{"$f":"IF($C20=\"\",\"\",VLOOKUP($C20,女子ﾃﾞｰﾀ貼付ｼｰﾄ!$A$3:$W$201,16))","v":""},{"$f":"IF($C20=\"\",\"\",VLOOKUP($C20,女子ﾃﾞｰﾀ貼付ｼｰﾄ!$A$3:$W$201,12))","v":""},{"$f":"IF($C20=\"\",\"\",VLOOKUP($C20,女子ﾃﾞｰﾀ貼付ｼｰﾄ!$A$3:$W$201,9))","v":""}]
[14,null,null,{"$f":"IF($C21=\"\",\"\",VLOOKUP($C21,女子ﾃﾞｰﾀ貼付ｼｰﾄ!$A$3:$W$201,5))","v":""},{"$f":"IF($C21=\"\",\"\",VLOOKUP($C21,女子ﾃﾞｰﾀ貼付ｼｰﾄ!$A$3:$W$201,2))","v":""},{"$f":"IF($C21=\"\",\"\",VLOOKUP($C21,女子ﾃﾞｰﾀ貼付ｼｰﾄ!$A$3:$W$201,3))","v":""},"女",{"$f":"IF($C21=\"\",\"\",VLOOKUP($C21,女子ﾃﾞｰﾀ貼付ｼｰﾄ!$A$3:$W$201,22))","v":""},{"$f":"IF($C21=\"\",\"\",VLOOKUP($C21,女子ﾃﾞｰﾀ貼付ｼｰﾄ!$A$3:$W$201,18))","v":""},{"$f":"IF($C21=\"\",\"\",VLOOKUP($C21,女子ﾃﾞｰﾀ貼付ｼｰﾄ!$A$3:$W$201,16))","v":""},{"$f":"IF($C21=\"\",\"\",VLOOKUP($C21,女子ﾃﾞｰﾀ貼付ｼｰﾄ!$A$3:$W$201,12))","v":""},{"$f":"IF($C21=\"\",\"\",VLOOKUP($C21,女子ﾃﾞｰﾀ貼付ｼｰﾄ!$A$3:$W$201,9))","v":""}]
[15,null,null,{"$f":"IF($C22=\"\",\"\",VLOOKUP($C22,女子ﾃﾞｰﾀ貼付ｼｰﾄ!$A$3:$W$201,5))","v":""},{"$f":"IF($C22=\"\",\"\",VLOOKUP($C22,女子ﾃﾞｰﾀ貼付ｼｰﾄ!$A$3:$W$201,2))","v":""},{"$f":"IF($C22=\"\",\"\",VLOOKUP($C22,女子ﾃﾞｰﾀ貼付ｼｰﾄ!$A$3:$W$201,3))","v":""},"女",{"$f":"IF($C22=\"\",\"\",VLOOKUP($C22,女子ﾃﾞｰﾀ貼付ｼｰﾄ!$A$3:$W$201,22))","v":""},{"$f":"IF($C22=\"\",\"\",VLOOKUP($C22,女子ﾃﾞｰﾀ貼付ｼｰﾄ!$A$3:$W$201,18))","v":""},{"$f":"IF($C22=\"\",\"\",VLOOKUP($C22,女子ﾃﾞｰﾀ貼付ｼｰﾄ!$A$3:$W$201,16))","v":""},{"$f":"IF($C22=\"\",\"\",VLOOKUP($C22,女子ﾃﾞｰﾀ貼付ｼｰﾄ!$A$3:$W$201,12))","v":""},{"$f":"IF($C22=\"\",\"\",VLOOKUP($C22,女子ﾃﾞｰﾀ貼付ｼｰﾄ!$A$3:$W$201,9))","v":""}]
[16,null,null,{"$f":"IF($C23=\"\",\"\",VLOOKUP($C23,女子ﾃﾞｰﾀ貼付ｼｰﾄ!$A$3:$W$201,5))","v":""},{"$f":"IF($C23=\"\",\"\",VLOOKUP($C23,女子ﾃﾞｰﾀ貼付ｼｰﾄ!$A$3:$W$201,2))","v":""},{"$f":"IF($C23=\"\",\"\",VLOOKUP($C23,女子ﾃﾞｰﾀ貼付ｼｰﾄ!$A$3:$W$201,3))","v":""},"女",{"$f":"IF($C23=\"\",\"\",VLOOKUP($C23,女子ﾃﾞｰﾀ貼付ｼｰﾄ!$A$3:$W$201,22))","v":""},{"$f":"IF($C23=\"\",\"\",VLOOKUP($C23,女子ﾃﾞｰﾀ貼付ｼｰﾄ!$A$3:$W$201,18))","v":""},{"$f":"IF($C23=\"\",\"\",VLOOKUP($C23,女子ﾃﾞｰﾀ貼付ｼｰﾄ!$A$3:$W$201,16))","v":""},{"$f":"IF($C23=\"\",\"\",VLOOKUP($C23,女子ﾃﾞｰﾀ貼付ｼｰﾄ!$A$3:$W$201,12))","v":""},{"$f":"IF($C23=\"\",\"\",VLOOKUP($C23,女子ﾃﾞｰﾀ貼付ｼｰﾄ!$A$3:$W$201,9))","v":""}]
[17,null,null,{"$f":"IF($C24=\"\",\"\",VLOOKUP($C24,女子ﾃﾞｰﾀ貼付ｼｰﾄ!$A$3:$W$201,5))","v":""},{"$f":"IF($C24=\"\",\"\",VLOOKUP($C24,女子ﾃﾞｰﾀ貼付ｼｰﾄ!$A$3:$W$201,2))","v":""},{"$f":"IF($C24=\"\",\"\",VLOOKUP($C24,女子ﾃﾞｰﾀ貼付ｼｰﾄ!$A$3:$W$201,3))","v":""},"女",{"$f":"IF($C24=\"\",\"\",VLOOKUP($C24,女子ﾃﾞｰﾀ貼付ｼｰﾄ!$A$3:$W$201,22))","v":""},{"$f":"IF($C24=\"\",\"\",VLOOKUP($C24,女子ﾃﾞｰﾀ貼付ｼｰﾄ!$A$3:$W$201,18))","v":""},{"$f":"IF($C24=\"\",\"\",VLOOKUP($C24,女子ﾃﾞｰﾀ貼付ｼｰﾄ!$A$3:$W$201,16))","v":""},{"$f":"IF($C24=\"\",\"\",VLOOKUP($C24,女子ﾃﾞｰﾀ貼付ｼｰﾄ!$A$3:$W$201,12))","v":""},{"$f":"IF($C24=\"\",\"\",VLOOKUP($C24,女子ﾃﾞｰﾀ貼付ｼｰﾄ!$A$3:$W$201,9))","v":""}]
[18,null,null,{"$f":"IF($C25=\"\",\"\",VLOOKUP($C25,女子ﾃﾞｰﾀ貼付ｼｰﾄ!$A$3:$W$201,5))","v":""},{"$f":"IF($C25=\"\",\"\",VLOOKUP($C25,女子ﾃﾞｰﾀ貼付ｼｰﾄ!$A$3:$W$201,2))","v":""},{"$f":"IF($C25=\"\",\"\",VLOOKUP($C25,女子ﾃﾞｰﾀ貼付ｼｰﾄ!$A$3:$W$201,3))","v":""},"女",{"$f":"IF($C25=\"\",\"\",VLOOKUP($C25,女子ﾃﾞｰﾀ貼付ｼｰﾄ!$A$3:$W$201,22))","v":""},{"$f":"IF($C25=\"\",\"\",VLOOKUP($C25,女子ﾃﾞｰﾀ貼付ｼｰﾄ!$A$3:$W$201,18))","v":""},{"$f":"IF($C25=\"\",\"\",VLOOKUP($C25,女子ﾃﾞｰﾀ貼付ｼｰﾄ!$A$3:$W$201,16))","v":""},{"$f":"IF($C25=\"\",\"\",VLOOKUP($C25,女子ﾃﾞｰﾀ貼付ｼｰﾄ!$A$3:$W$201,12))","v":""},{"$f":"IF($C25=\"\",\"\",VLOOKUP($C25,女子ﾃﾞｰﾀ貼付ｼｰﾄ!$A$3:$W$201,9))","v":""}]
[19,null,null,{"$f":"IF($C26=\"\",\"\",VLOOKUP($C26,女子ﾃﾞｰﾀ貼付ｼｰﾄ!$A$3:$W$201,5))","v":""},{"$f":"IF($C26=\"\",\"\",VLOOKUP($C26,女子ﾃﾞｰﾀ貼付ｼｰﾄ!$A$3:$W$201,2))","v":""},{"$f":"IF($C26=\"\",\"\",VLOOKUP($C26,女子ﾃﾞｰﾀ貼付ｼｰﾄ!$A$3:$W$201,3))","v":""},"女",{"$f":"IF($C26=\"\",\"\",VLOOKUP($C26,女子ﾃﾞｰﾀ貼付ｼｰﾄ!$A$3:$W$201,22))","v":""},{"$f":"IF($C26=\"\",\"\",VLOOKUP($C26,女子ﾃﾞｰﾀ貼付ｼｰﾄ!$A$3:$W$201,18))","v":""},{"$f":"IF($C26=\"\",\"\",VLOOKUP($C26,女子ﾃﾞｰﾀ貼付ｼｰﾄ!$A$3:$W$201,16))","v":""},{"$f":"IF($C26=\"\",\"\",VLOOKUP($C26,女子ﾃﾞｰﾀ貼付ｼｰﾄ!$A$3:$W$201,12))","v":""},{"$f":"IF($C26=\"\",\"\",VLOOKUP($C26,女子ﾃﾞｰﾀ貼付ｼｰﾄ!$A$3:$W$201,9))","v":""}]
[20,null,null,{"$f":"IF($C27=\"\",\"\",VLOOKUP($C27,女子ﾃﾞｰﾀ貼付ｼｰﾄ!$A$3:$W$201,5))","v":""},{"$f":"IF($C27=\"\",\"\",VLOOKUP($C27,女子ﾃﾞｰﾀ貼付ｼｰﾄ!$A$3:$W$201,2))","v":""},{"$f":"IF($C27=\"\",\"\",VLOOKUP($C27,女子ﾃﾞｰﾀ貼付ｼｰﾄ!$A$3:$W$201,3))","v":""},"女",{"$f":"IF($C27=\"\",\"\",VLOOKUP($C27,女子ﾃﾞｰﾀ貼付ｼｰﾄ!$A$3:$W$201,22))","v":""},{"$f":"IF($C27=\"\",\"\",VLOOKUP($C27,女子ﾃﾞｰﾀ貼付ｼｰﾄ!$A$3:$W$201,18))","v":""},{"$f":"IF($C27=\"\",\"\",VLOOKUP($C27,女子ﾃﾞｰﾀ貼付ｼｰﾄ!$A$3:$W$201,16))","v":""},{"$f":"IF($C27=\"\",\"\",VLOOKUP($C27,女子ﾃﾞｰﾀ貼付ｼｰﾄ!$A$3:$W$201,12))","v":""},{"$f":"IF($C27=\"\",\"\",VLOOKUP($C27,女子ﾃﾞｰﾀ貼付ｼｰﾄ!$A$3:$W$201,9))","v":""}]
[21,null,null,{"$f":"IF($C28=\"\",\"\",VLOOKUP($C28,女子ﾃﾞｰﾀ貼付ｼｰﾄ!$A$3:$W$201,5))","v":""},{"$f":"IF($C28=\"\",\"\",VLOOKUP($C28,女子ﾃﾞｰﾀ貼付ｼｰﾄ!$A$3:$W$201,2))","v":""},{"$f":"IF($C28=\"\",\"\",VLOOKUP($C28,女子ﾃﾞｰﾀ貼付ｼｰﾄ!$A$3:$W$201,3))","v":""},"女",{"$f":"IF($C28=\"\",\"\",VLOOKUP($C28,女子ﾃﾞｰﾀ貼付ｼｰﾄ!$A$3:$W$201,22))","v":""},{"$f":"IF($C28=\"\",\"\",VLOOKUP($C28,女子ﾃﾞｰﾀ貼付ｼｰﾄ!$A$3:$W$201,18))","v":""},{"$f":"IF($C28=\"\",\"\",VLOOKUP($C28,女子ﾃﾞｰﾀ貼付ｼｰﾄ!$A$3:$W$201,16))","v":""},{"$f":"IF($C28=\"\",\"\",VLOOKUP($C28,女子ﾃﾞｰﾀ貼付ｼｰﾄ!$A$3:$W$201,12))","v":""},{"$f":"IF($C28=\"\",\"\",VLOOKUP($C28,女子ﾃﾞｰﾀ貼付ｼｰﾄ!$A$3:$W$201,9))","v":""}]
[22,null,null,{"$f":"IF($C29=\"\",\"\",VLOOKUP($C29,女子ﾃﾞｰﾀ貼付ｼｰﾄ!$A$3:$W$201,5))","v":""},{"$f":"IF($C29=\"\",\"\",VLOOKUP($C29,女子ﾃﾞｰﾀ貼付ｼｰﾄ!$A$3:$W$201,2))","v":""},{"$f":"IF($C29=\"\",\"\",VLOOKUP($C29,女子ﾃﾞｰﾀ貼付ｼｰﾄ!$A$3:$W$201,3))","v":""},"女",{"$f":"IF($C29=\"\",\"\",VLOOKUP($C29,女子ﾃﾞｰﾀ貼付ｼｰﾄ!$A$3:$W$201,22))","v":""},{"$f":"IF($C29=\"\",\"\",VLOOKUP($C29,女子ﾃﾞｰﾀ貼付ｼｰﾄ!$A$3:$W$201,18))","v":""},{"$f":"IF($C29=\"\",\"\",VLOOKUP($C29,女子ﾃﾞｰﾀ貼付ｼｰﾄ!$A$3:$W$201,16))","v":""},{"$f":"IF($C29=\"\",\"\",VLOOKUP($C29,女子ﾃﾞｰﾀ貼付ｼｰﾄ!$A$3:$W$201,12))","v":""},{"$f":"IF($C29=\"\",\"\",VLOOKUP($C29,女子ﾃﾞｰﾀ貼付ｼｰﾄ!$A$3:$W$201,9))","v":""}]
[23,null,null,{"$f":"IF($C30=\"\",\"\",VLOOKUP($C30,女子ﾃﾞｰﾀ貼付ｼｰﾄ!$A$3:$W$201,5))","v":""},{"$f":"IF($C30=\"\",\"\",VLOOKUP($C30,女子ﾃﾞｰﾀ貼付ｼｰﾄ!$A$3:$W$201,2))","v":""},{"$f":"IF($C30=\"\",\"\",VLOOKUP($C30,女子ﾃﾞｰﾀ貼付ｼｰﾄ!$A$3:$W$201,3))","v":""},"女",{"$f":"IF($C30=\"\",\"\",VLOOKUP($C30,女子ﾃﾞｰﾀ貼付ｼｰﾄ!$A$3:$W$201,22))","v":""},{"$f":"IF($C30=\"\",\"\",VLOOKUP($C30,女子ﾃﾞｰﾀ貼付ｼｰﾄ!$A$3:$W$201,18))","v":""},{"$f":"IF($C30=\"\",\"\",VLOOKUP($C30,女子ﾃﾞｰﾀ貼付ｼｰﾄ!$A$3:$W$201,16))","v":""},{"$f":"IF($C30=\"\",\"\",VLOOKUP($C30,女子ﾃﾞｰﾀ貼付ｼｰﾄ!$A$3:$W$201,12))","v":""},{"$f":"IF($C30=\"\",\"\",VLOOKUP($C30,女子ﾃﾞｰﾀ貼付ｼｰﾄ!$A$3:$W$201,9))","v":""}]
[24,null,null,{"$f":"IF($C31=\"\",\"\",VLOOKUP($C31,女子ﾃﾞｰﾀ貼付ｼｰﾄ!$A$3:$W$201,5))","v":""},{"$f":"IF($C31=\"\",\"\",VLOOKUP($C31,女子ﾃﾞｰﾀ貼付ｼｰﾄ!$A$3:$W$201,2))","v":""},{"$f":"IF($C31=\"\",\"\",VLOOKUP($C31,女子ﾃﾞｰﾀ貼付ｼｰﾄ!$A$3:$W$201,3))","v":""},"女",{"$f":"IF($C31=\"\",\"\",VLOOKUP($C31,女子ﾃﾞｰﾀ貼付ｼｰﾄ!$A$3:$W$201,22))","v":""},{"$f":"IF($C31=\"\",\"\",VLOOKUP($C31,女子ﾃﾞｰﾀ貼付ｼｰﾄ!$A$3:$W$201,18))","v":""},{"$f":"IF($C31=\"\",\"\",VLOOKUP($C31,女子ﾃﾞｰﾀ貼付ｼｰﾄ!$A$3:$W$201,16))","v":""},{"$f":"IF($C31=\"\",\"\",VLOOKUP($C31,女子ﾃﾞｰﾀ貼付ｼｰﾄ!$A$3:$W$201,12))","v":""},{"$f":"IF($C31=\"\",\"\",VLOOKUP($C31,女子ﾃﾞｰﾀ貼付ｼｰﾄ!$A$3:$W$201,9))","v":""}]
[25,null,null,{"$f":"IF($C32=\"\",\"\",VLOOKUP($C32,女子ﾃﾞｰﾀ貼付ｼｰﾄ!$A$3:$W$201,5))","v":""},{"$f":"IF($C32=\"\",\"\",VLOOKUP($C32,女子ﾃﾞｰﾀ貼付ｼｰﾄ!$A$3:$W$201,2))","v":""},{"$f":"IF($C32=\"\",\"\",VLOOKUP($C32,女子ﾃﾞｰﾀ貼付ｼｰﾄ!$A$3:$W$201,3))","v":""},"女",{"$f":"IF($C32=\"\",\"\",VLOOKUP($C32,女子ﾃﾞｰﾀ貼付ｼｰﾄ!$A$3:$W$201,22))","v":""},{"$f":"IF($C32=\"\",\"\",VLOOKUP($C32,女子ﾃﾞｰﾀ貼付ｼｰﾄ!$A$3:$W$201,18))","v":""},{"$f":"IF($C32=\"\",\"\",VLOOKUP($C32,女子ﾃﾞｰﾀ貼付ｼｰﾄ!$A$3:$W$201,16))","v":""},{"$f":"IF($C32=\"\",\"\",VLOOKUP($C32,女子ﾃﾞｰﾀ貼付ｼｰﾄ!$A$3:$W$201,12))","v":""},{"$f":"IF($C32=\"\",\"\",VLOOKUP($C32,女子ﾃﾞｰﾀ貼付ｼｰﾄ!$A$3:$W$201,9))","v":""}]
[26,null,null,{"$f":"IF($C33=\"\",\"\",VLOOKUP($C33,女子ﾃﾞｰﾀ貼付ｼｰﾄ!$A$3:$W$201,5))","v":""},{"$f":"IF($C33=\"\",\"\",VLOOKUP($C33,女子ﾃﾞｰﾀ貼付ｼｰﾄ!$A$3:$W$201,2))","v":""},{"$f":"IF($C33=\"\",\"\",VLOOKUP($C33,女子ﾃﾞｰﾀ貼付ｼｰﾄ!$A$3:$W$201,3))","v":""},"女",{"$f":"IF($C33=\"\",\"\",VLOOKUP($C33,女子ﾃﾞｰﾀ貼付ｼｰﾄ!$A$3:$W$201,22))","v":""},{"$f":"IF($C33=\"\",\"\",VLOOKUP($C33,女子ﾃﾞｰﾀ貼付ｼｰﾄ!$A$3:$W$201,18))","v":""},{"$f":"IF($C33=\"\",\"\",VLOOKUP($C33,女子ﾃﾞｰﾀ貼付ｼｰﾄ!$A$3:$W$201,16))","v":""},{"$f":"IF($C33=\"\",\"\",VLOOKUP($C33,女子ﾃﾞｰﾀ貼付ｼｰﾄ!$A$3:$W$201,12))","v":""},{"$f":"IF($C33=\"\",\"\",VLOOKUP($C33,女子ﾃﾞｰﾀ貼付ｼｰﾄ!$A$3:$W$201,9))","v":""}]
[27,null,null,{"$f":"IF($C34=\"\",\"\",VLOOKUP($C34,女子ﾃﾞｰﾀ貼付ｼｰﾄ!$A$3:$W$201,5))","v":""},{"$f":"IF($C34=\"\",\"\",VLOOKUP($C34,女子ﾃﾞｰﾀ貼付ｼｰﾄ!$A$3:$W$201,2))","v":""},{"$f":"IF($C34=\"\",\"\",VLOOKUP($C34,女子ﾃﾞｰﾀ貼付ｼｰﾄ!$A$3:$W$201,3))","v":""},"女",{"$f":"IF($C34=\"\",\"\",VLOOKUP($C34,女子ﾃﾞｰﾀ貼付ｼｰﾄ!$A$3:$W$201,22))","v":""},{"$f":"IF($C34=\"\",\"\",VLOOKUP($C34,女子ﾃﾞｰﾀ貼付ｼｰﾄ!$A$3:$W$201,18))","v":""},{"$f":"IF($C34=\"\",\"\",VLOOKUP($C34,女子ﾃﾞｰﾀ貼付ｼｰﾄ!$A$3:$W$201,16))","v":""},{"$f":"IF($C34=\"\",\"\",VLOOKUP($C34,女子ﾃﾞｰﾀ貼付ｼｰﾄ!$A$3:$W$201,12))","v":""},{"$f":"IF($C34=\"\",\"\",VLOOKUP($C34,女子ﾃﾞｰﾀ貼付ｼｰﾄ!$A$3:$W$201,9))","v":""}]
[28,null,null,{"$f":"IF($C35=\"\",\"\",VLOOKUP($C35,女子ﾃﾞｰﾀ貼付ｼｰﾄ!$A$3:$W$201,5))","v":""},{"$f":"IF($C35=\"\",\"\",VLOOKUP($C35,女子ﾃﾞｰﾀ貼付ｼｰﾄ!$A$3:$W$201,2))","v":""},{"$f":"IF($C35=\"\",\"\",VLOOKUP($C35,女子ﾃﾞｰﾀ貼付ｼｰﾄ!$A$3:$W$201,3))","v":""},"女",{"$f":"IF($C35=\"\",\"\",VLOOKUP($C35,女子ﾃﾞｰﾀ貼付ｼｰﾄ!$A$3:$W$201,22))","v":""},{"$f":"IF($C35=\"\",\"\",VLOOKUP($C35,女子ﾃﾞｰﾀ貼付ｼｰﾄ!$A$3:$W$201,18))","v":""},{"$f":"IF($C35=\"\",\"\",VLOOKUP($C35,女子ﾃﾞｰﾀ貼付ｼｰﾄ!$A$3:$W$201,16))","v":""},{"$f":"IF($C35=\"\",\"\",VLOOKUP($C35,女子ﾃﾞｰﾀ貼付ｼｰﾄ!$A$3:$W$201,12))","v":""},{"$f":"IF($C35=\"\",\"\",VLOOKUP($C35,女子ﾃﾞｰﾀ貼付ｼｰﾄ!$A$3:$W$201,9))","v":""}]
[29,null,null,{"$f":"IF($C36=\"\",\"\",VLOOKUP($C36,女子ﾃﾞｰﾀ貼付ｼｰﾄ!$A$3:$W$201,5))","v":""},{"$f":"IF($C36=\"\",\"\",VLOOKUP($C36,女子ﾃﾞｰﾀ貼付ｼｰﾄ!$A$3:$W$201,2))","v":""},{"$f":"IF($C36=\"\",\"\",VLOOKUP($C36,女子ﾃﾞｰﾀ貼付ｼｰﾄ!$A$3:$W$201,3))","v":""},"女",{"$f":"IF($C36=\"\",\"\",VLOOKUP($C36,女子ﾃﾞｰﾀ貼付ｼｰﾄ!$A$3:$W$201,22))","v":""},{"$f":"IF($C36=\"\",\"\",VLOOKUP($C36,女子ﾃﾞｰﾀ貼付ｼｰﾄ!$A$3:$W$201,18))","v":""},{"$f":"IF($C36=\"\",\"\",VLOOKUP($C36,女子ﾃﾞｰﾀ貼付ｼｰﾄ!$A$3:$W$201,16))","v":""},{"$f":"IF($C36=\"\",\"\",VLOOKUP($C36,女子ﾃﾞｰﾀ貼付ｼｰﾄ!$A$3:$W$201,12))","v":""},{"$f":"IF($C36=\"\",\"\",VLOOKUP($C36,女子ﾃﾞｰﾀ貼付ｼｰﾄ!$A$3:$W$201,9))","v":""}]
[30,null,null,{"$f":"IF($C37=\"\",\"\",VLOOKUP($C37,女子ﾃﾞｰﾀ貼付ｼｰﾄ!$A$3:$W$201,5))","v":""},{"$f":"IF($C37=\"\",\"\",VLOOKUP($C37,女子ﾃﾞｰﾀ貼付ｼｰﾄ!$A$3:$W$201,2))","v":""},{"$f":"IF($C37=\"\",\"\",VLOOKUP($C37,女子ﾃﾞｰﾀ貼付ｼｰﾄ!$A$3:$W$201,3))","v":""},"女",{"$f":"IF($C37=\"\",\"\",VLOOKUP($C37,女子ﾃﾞｰﾀ貼付ｼｰﾄ!$A$3:$W$201,22))","v":""},{"$f":"IF($C37=\"\",\"\",VLOOKUP($C37,女子ﾃﾞｰﾀ貼付ｼｰﾄ!$A$3:$W$201,18))","v":""},{"$f":"IF($C37=\"\",\"\",VLOOKUP($C37,女子ﾃﾞｰﾀ貼付ｼｰﾄ!$A$3:$W$201,16))","v":""},{"$f":"IF($C37=\"\",\"\",VLOOKUP($C37,女子ﾃﾞｰﾀ貼付ｼｰﾄ!$A$3:$W$201,12))","v":""},{"$f":"IF($C37=\"\",\"\",VLOOKUP($C37,女子ﾃﾞｰﾀ貼付ｼｰﾄ!$A$3:$W$201,9))","v":""}]
[31,null,null,{"$f":"IF($C38=\"\",\"\",VLOOKUP($C38,女子ﾃﾞｰﾀ貼付ｼｰﾄ!$A$3:$W$201,5))","v":""},{"$f":"IF($C38=\"\",\"\",VLOOKUP($C38,女子ﾃﾞｰﾀ貼付ｼｰﾄ!$A$3:$W$201,2))","v":""},{"$f":"IF($C38=\"\",\"\",VLOOKUP($C38,女子ﾃﾞｰﾀ貼付ｼｰﾄ!$A$3:$W$201,3))","v":""},"女",{"$f":"IF($C38=\"\",\"\",VLOOKUP($C38,女子ﾃﾞｰﾀ貼付ｼｰﾄ!$A$3:$W$201,22))","v":""},{"$f":"IF($C38=\"\",\"\",VLOOKUP($C38,女子ﾃﾞｰﾀ貼付ｼｰﾄ!$A$3:$W$201,18))","v":""},{"$f":"IF($C38=\"\",\"\",VLOOKUP($C38,女子ﾃﾞｰﾀ貼付ｼｰﾄ!$A$3:$W$201,16))","v":""},{"$f":"IF($C38=\"\",\"\",VLOOKUP($C38,女子ﾃﾞｰﾀ貼付ｼｰﾄ!$A$3:$W$201,12))","v":""},{"$f":"IF($C38=\"\",\"\",VLOOKUP($C38,女子ﾃﾞｰﾀ貼付ｼｰﾄ!$A$3:$W$201,9))","v":""}]
[32,null,null,{"$f":"IF($C39=\"\",\"\",VLOOKUP($C39,女子ﾃﾞｰﾀ貼付ｼｰﾄ!$A$3:$W$201,5))","v":""},{"$f":"IF($C39=\"\",\"\",VLOOKUP($C39,女子ﾃﾞｰﾀ貼付ｼｰﾄ!$A$3:$W$201,2))","v":""},{"$f":"IF($C39=\"\",\"\",VLOOKUP($C39,女子ﾃﾞｰﾀ貼付ｼｰﾄ!$A$3:$W$201,3))","v":""},"女",{"$f":"IF($C39=\"\",\"\",VLOOKUP($C39,女子ﾃﾞｰﾀ貼付ｼｰﾄ!$A$3:$W$201,22))","v":""},{"$f":"IF($C39=\"\",\"\",VLOOKUP($C39,女子ﾃﾞｰﾀ貼付ｼｰﾄ!$A$3:$W$201,18))","v":""},{"$f":"IF($C39=\"\",\"\",VLOOKUP($C39,女子ﾃﾞｰﾀ貼付ｼｰﾄ!$A$3:$W$201,16))","v":""},{"$f":"IF($C39=\"\",\"\",VLOOKUP($C39,女子ﾃﾞｰﾀ貼付ｼｰﾄ!$A$3:$W$201,12))","v":""},{"$f":"IF($C39=\"\",\"\",VLOOKUP($C39,女子ﾃﾞｰﾀ貼付ｼｰﾄ!$A$3:$W$201,9))","v":""}]
[33,null,null,{"$f":"IF($C40=\"\",\"\",VLOOKUP($C40,女子ﾃﾞｰﾀ貼付ｼｰﾄ!$A$3:$W$201,5))","v":""},{"$f":"IF($C40=\"\",\"\",VLOOKUP($C40,女子ﾃﾞｰﾀ貼付ｼｰﾄ!$A$3:$W$201,2))","v":""},{"$f":"IF($C40=\"\",\"\",VLOOKUP($C40,女子ﾃﾞｰﾀ貼付ｼｰﾄ!$A$3:$W$201,3))","v":""},"女",{"$f":"IF($C40=\"\",\"\",VLOOKUP($C40,女子ﾃﾞｰﾀ貼付ｼｰﾄ!$A$3:$W$201,22))","v":""},{"$f":"IF($C40=\"\",\"\",VLOOKUP($C40,女子ﾃﾞｰﾀ貼付ｼｰﾄ!$A$3:$W$201,18))","v":""},{"$f":"IF($C40=\"\",\"\",VLOOKUP($C40,女子ﾃﾞｰﾀ貼付ｼｰﾄ!$A$3:$W$201,16))","v":""},{"$f":"IF($C40=\"\",\"\",VLOOKUP($C40,女子ﾃﾞｰﾀ貼付ｼｰﾄ!$A$3:$W$201,12))","v":""},{"$f":"IF($C40=\"\",\"\",VLOOKUP($C40,女子ﾃﾞｰﾀ貼付ｼｰﾄ!$A$3:$W$201,9))","v":""}]
[34,null,null,{"$f":"IF($C41=\"\",\"\",VLOOKUP($C41,女子ﾃﾞｰﾀ貼付ｼｰﾄ!$A$3:$W$201,5))","v":""},{"$f":"IF($C41=\"\",\"\",VLOOKUP($C41,女子ﾃﾞｰﾀ貼付ｼｰﾄ!$A$3:$W$201,2))","v":""},{"$f":"IF($C41=\"\",\"\",VLOOKUP($C41,女子ﾃﾞｰﾀ貼付ｼｰﾄ!$A$3:$W$201,3))","v":""},"女",{"$f":"IF($C41=\"\",\"\",VLOOKUP($C41,女子ﾃﾞｰﾀ貼付ｼｰﾄ!$A$3:$W$201,22))","v":""},{"$f":"IF($C41=\"\",\"\",VLOOKUP($C41,女子ﾃﾞｰﾀ貼付ｼｰﾄ!$A$3:$W$201,18))","v":""},{"$f":"IF($C41=\"\",\"\",VLOOKUP($C41,女子ﾃﾞｰﾀ貼付ｼｰﾄ!$A$3:$W$201,16))","v":""},{"$f":"IF($C41=\"\",\"\",VLOOKUP($C41,女子ﾃﾞｰﾀ貼付ｼｰﾄ!$A$3:$W$201,12))","v":""},{"$f":"IF($C41=\"\",\"\",VLOOKUP($C41,女子ﾃﾞｰﾀ貼付ｼｰﾄ!$A$3:$W$201,9))","v":""}]
[35,null,null,{"$f":"IF($C42=\"\",\"\",VLOOKUP($C42,女子ﾃﾞｰﾀ貼付ｼｰﾄ!$A$3:$W$201,5))","v":""},{"$f":"IF($C42=\"\",\"\",VLOOKUP($C42,女子ﾃﾞｰﾀ貼付ｼｰﾄ!$A$3:$W$201,2))","v":""},{"$f":"IF($C42=\"\",\"\",VLOOKUP($C42,女子ﾃﾞｰﾀ貼付ｼｰﾄ!$A$3:$W$201,3))","v":""},"女",{"$f":"IF($C42=\"\",\"\",VLOOKUP($C42,女子ﾃﾞｰﾀ貼付ｼｰﾄ!$A$3:$W$201,22))","v":""},{"$f":"IF($C42=\"\",\"\",VLOOKUP($C42,女子ﾃﾞｰﾀ貼付ｼｰﾄ!$A$3:$W$201,18))","v":""},{"$f":"IF($C42=\"\",\"\",VLOOKUP($C42,女子ﾃﾞｰﾀ貼付ｼｰﾄ!$A$3:$W$201,16))","v":""},{"$f":"IF($C42=\"\",\"\",VLOOKUP($C42,女子ﾃﾞｰﾀ貼付ｼｰﾄ!$A$3:$W$201,12))","v":""},{"$f":"IF($C42=\"\",\"\",VLOOKUP($C42,女子ﾃﾞｰﾀ貼付ｼｰﾄ!$A$3:$W$201,9))","v":""}]
[36,null,null,{"$f":"IF($C43=\"\",\"\",VLOOKUP($C43,女子ﾃﾞｰﾀ貼付ｼｰﾄ!$A$3:$W$201,5))","v":""},{"$f":"IF($C43=\"\",\"\",VLOOKUP($C43,女子ﾃﾞｰﾀ貼付ｼｰﾄ!$A$3:$W$201,2))","v":""},{"$f":"IF($C43=\"\",\"\",VLOOKUP($C43,女子ﾃﾞｰﾀ貼付ｼｰﾄ!$A$3:$W$201,3))","v":""},"女",{"$f":"IF($C43=\"\",\"\",VLOOKUP($C43,女子ﾃﾞｰﾀ貼付ｼｰﾄ!$A$3:$W$201,22))","v":""},{"$f":"IF($C43=\"\",\"\",VLOOKUP($C43,女子ﾃﾞｰﾀ貼付ｼｰﾄ!$A$3:$W$201,18))","v":""},{"$f":"IF($C43=\"\",\"\",VLOOKUP($C43,女子ﾃﾞｰﾀ貼付ｼｰﾄ!$A$3:$W$201,16))","v":""},{"$f":"IF($C43=\"\",\"\",VLOOKUP($C43,女子ﾃﾞｰﾀ貼付ｼｰﾄ!$A$3:$W$201,12))","v":""},{"$f":"IF($C43=\"\",\"\",VLOOKUP($C43,女子ﾃﾞｰﾀ貼付ｼｰﾄ!$A$3:$W$201,9))","v":""}]
[37,null,null,{"$f":"IF($C44=\"\",\"\",VLOOKUP($C44,女子ﾃﾞｰﾀ貼付ｼｰﾄ!$A$3:$W$201,5))","v":""},{"$f":"IF($C44=\"\",\"\",VLOOKUP($C44,女子ﾃﾞｰﾀ貼付ｼｰﾄ!$A$3:$W$201,2))","v":""},{"$f":"IF($C44=\"\",\"\",VLOOKUP($C44,女子ﾃﾞｰﾀ貼付ｼｰﾄ!$A$3:$W$201,3))","v":""},"女",{"$f":"IF($C44=\"\",\"\",VLOOKUP($C44,女子ﾃﾞｰﾀ貼付ｼｰﾄ!$A$3:$W$201,22))","v":""},{"$f":"IF($C44=\"\",\"\",VLOOKUP($C44,女子ﾃﾞｰﾀ貼付ｼｰﾄ!$A$3:$W$201,18))","v":""},{"$f":"IF($C44=\"\",\"\",VLOOKUP($C44,女子ﾃﾞｰﾀ貼付ｼｰﾄ!$A$3:$W$201,16))","v":""},{"$f":"IF($C44=\"\",\"\",VLOOKUP($C44,女子ﾃﾞｰﾀ貼付ｼｰﾄ!$A$3:$W$201,12))","v":""},{"$f":"IF($C44=\"\",\"\",VLOOKUP($C44,女子ﾃﾞｰﾀ貼付ｼｰﾄ!$A$3:$W$201,9))","v":""}]
[38,null,null,{"$f":"IF($C45=\"\",\"\",VLOOKUP($C45,女子ﾃﾞｰﾀ貼付ｼｰﾄ!$A$3:$W$201,5))","v":""},{"$f":"IF($C45=\"\",\"\",VLOOKUP($C45,女子ﾃﾞｰﾀ貼付ｼｰﾄ!$A$3:$W$201,2))","v":""},{"$f":"IF($C45=\"\",\"\",VLOOKUP($C45,女子ﾃﾞｰﾀ貼付ｼｰﾄ!$A$3:$W$201,3))","v":""},"女",{"$f":"IF($C45=\"\",\"\",VLOOKUP($C45,女子ﾃﾞｰﾀ貼付ｼｰﾄ!$A$3:$W$201,22))","v":""},{"$f":"IF($C45=\"\",\"\",VLOOKUP($C45,女子ﾃﾞｰﾀ貼付ｼｰﾄ!$A$3:$W$201,18))","v":""},{"$f":"IF($C45=\"\",\"\",VLOOKUP($C45,女子ﾃﾞｰﾀ貼付ｼｰﾄ!$A$3:$W$201,16))","v":""},{"$f":"IF($C45=\"\",\"\",VLOOKUP($C45,女子ﾃﾞｰﾀ貼付ｼｰﾄ!$A$3:$W$201,12))","v":""},{"$f":"IF($C45=\"\",\"\",VLOOKUP($C45,女子ﾃﾞｰﾀ貼付ｼｰﾄ!$A$3:$W$201,9))","v":""}]
[39,null,null,{"$f":"IF($C46=\"\",\"\",VLOOKUP($C46,女子ﾃﾞｰﾀ貼付ｼｰﾄ!$A$3:$W$201,5))","v":""},{"$f":"IF($C46=\"\",\"\",VLOOKUP($C46,女子ﾃﾞｰﾀ貼付ｼｰﾄ!$A$3:$W$201,2))","v":""},{"$f":"IF($C46=\"\",\"\",VLOOKUP($C46,女子ﾃﾞｰﾀ貼付ｼｰﾄ!$A$3:$W$201,3))","v":""},"女",{"$f":"IF($C46=\"\",\"\",VLOOKUP($C46,女子ﾃﾞｰﾀ貼付ｼｰﾄ!$A$3:$W$201,22))","v":""},{"$f":"IF($C46=\"\",\"\",VLOOKUP($C46,女子ﾃﾞｰﾀ貼付ｼｰﾄ!$A$3:$W$201,18))","v":""},{"$f":"IF($C46=\"\",\"\",VLOOKUP($C46,女子ﾃﾞｰﾀ貼付ｼｰﾄ!$A$3:$W$201,16))","v":""},{"$f":"IF($C46=\"\",\"\",VLOOKUP($C46,女子ﾃﾞｰﾀ貼付ｼｰﾄ!$A$3:$W$201,12))","v":""},{"$f":"IF($C46=\"\",\"\",VLOOKUP($C46,女子ﾃﾞｰﾀ貼付ｼｰﾄ!$A$3:$W$201,9))","v":""}]
[40,null,null,{"$f":"IF($C47=\"\",\"\",VLOOKUP($C47,女子ﾃﾞｰﾀ貼付ｼｰﾄ!$A$3:$W$201,5))","v":""},{"$f":"IF($C47=\"\",\"\",VLOOKUP($C47,女子ﾃﾞｰﾀ貼付ｼｰﾄ!$A$3:$W$201,2))","v":""},{"$f":"IF($C47=\"\",\"\",VLOOKUP($C47,女子ﾃﾞｰﾀ貼付ｼｰﾄ!$A$3:$W$201,3))","v":""},"女",{"$f":"IF($C47=\"\",\"\",VLOOKUP($C47,女子ﾃﾞｰﾀ貼付ｼｰﾄ!$A$3:$W$201,22))","v":""},{"$f":"IF($C47=\"\",\"\",VLOOKUP($C47,女子ﾃﾞｰﾀ貼付ｼｰﾄ!$A$3:$W$201,18))","v":""},{"$f":"IF($C47=\"\",\"\",VLOOKUP($C47,女子ﾃﾞｰﾀ貼付ｼｰﾄ!$A$3:$W$201,16))","v":""},{"$f":"IF($C47=\"\",\"\",VLOOKUP($C47,女子ﾃﾞｰﾀ貼付ｼｰﾄ!$A$3:$W$201,12))","v":""},{"$f":"IF($C47=\"\",\"\",VLOOKUP($C47,女子ﾃﾞｰﾀ貼付ｼｰﾄ!$A$3:$W$201,9))","v":""}]
[]
["※記入方法について",null,null,null,null,null,null,"※ＩＤカードの発行枚数について",null,null,null,"一般",2000,null,"（種目）",null,{"$f":"N49*M49","v":0}]
["１．ナンバーの県欄には、各県登録ナンバーを入力する。"]
["　　北ナンバーは、各県陸協で割り振るので入力しない。",null,null,null,null,null,null,null,"監督・コーチ(ﾏﾈｰｼﾞｬｰ含む)について",null,null,"高校生",1500,null,"（種目）",null,{"$f":"N51*M51","v":0}]
["２．自己最高記録は2020.1.1～大会申込締切までの最高記録を記入",null,null,null,null,null,null,null,"以下のように配布します。"]
["　　標準記録突破者は、この欄に記入する。",null,null,null,null,null,null,null,null,null,null,"中学生",1000,null,"（種目）",null,{"$f":"N53*M53","v":0}]
["３．種目の年、月は記録を出した年を西暦下二けた(20or21)と月の４桁で記入",null,null,null,null,null,null,null,"参加選手数","発行枚数"]
["４．不足する場合は、行を挿入してください。",null,null,null,null,null,null,null,"１～２名","２枚",null,"混成",3000,null,"（種目）",null,{"$f":"N55*M55","v":0}]
["５．申込書記入例を参考に種目等を記入してください。","個人情報保護について",null,null,null,null,null,null,"３～６名","３枚",null,"　"]
[null,"　※","ここに書かれている内容については本大会の運営だけに利用し、",null,null,null,null,null,"７～１５名","４枚",null,"リレー",3000,null,"（種目）",null,{"$f":"N57*M57","v":0}]
[null,null,"その他、外部への情報供与は一切行いません。",null,null,null,null,null,"１６名～","５枚"]
[null,null,null,null,null,null,null,null,null,null,null,null,null,null,null,"合計",{"$f":"Q49+Q51+Q53+Q55+Q57","v":0}]
[]
[null,null,null,null,null,null,null,null,null,null,null,null,"記載責任者（携帯電話番号）"]
[null,"所属団体",null,null,null,null,null,null,null,null,null,null,"氏名"]
[null,null,null,null,null,null,null,null,null,null,null,null,"（",null,null,null,null,"）"]
[]
[null,"住所","〒",null,null,null,null,null,null,null,null,null,"学校の場合は、学校長出場承認印"]
[]
[null,"電話",null,null,null,null,null,null,null,null,null,null,null,null,null,null,null,"印"]
[null,"FAX"]

{"sheet":"【様式5-1】宿泊要項","index":7,"n_rows":61,"n_cols":17,"rows_kept":61,"cut":false,"hidden":false,"merged":[[54,1,55,2],[54,3,55,8],[54,9,54,11],[54,12,54,14],[55,9,55,11],[55,12,55,14],[53,3,53,5],[53,6,53,8],[14,16,15,16],[45,1,45,16],[53,12,53,14],[31,3,32,12],[25,1,25,3],[25,4,25,6],[25,7,25,15],[53,9,53,11],[26,1,27,3],[26,4,27,6],[26,7,27,15],[28,1,29,3],[28,4,29,6],[28,7,29,15],[13,1,15,3],[13,4,13,8],[13,9,13,12],[13,13,13,15],[52,3,52,5],[52,6,52,8],[52,9,52,11],[52,12,52,14],[41,1,41,16],[52,1,53,2],[21,1,21,15],[22,1,22,15],[23,1,23,15],[24,1,24,2],[16,1,17,3],[16,4,16,8],[16,9,16,12],[16,13,16,15],[17,4,17,8],[17,9,17,12],[17,13,17,15],[0,0,2,16],[3,0,4,16],[10,1,10,2],[12,1,12,3],[12,4,12,8],[12,9,12,12],[12,13,12,15],[14,4,14,8],[14,9,14,12],[14,13,14,15],[15,4,15,8],[15,9,15,12],[15,13,15,15]]}
["第65回北陸陸上競技選手権大会\n兼 第106回日本陸上競技選手権大会北陸地域予選会"]
[]
[]
["宿泊・弁当　申込要項"]
[]
[null,"　第６５回北陸陸上競技選手権大会　兼 第１０６回日本陸上競技選手権大会北陸地域予選会に参加される"]
[null,"選手ならびに引率の方の宿泊・弁当の申込につきまして、下記にてご案内申し上げます。"]
[]
[null,"１．宿泊施設ならびに宿泊料金・昼食弁当のご案内。"]
[null,"ご利用宿泊日　令和３年８月２０日（金）・８月２１日（土）"]
[null,"【宿泊施設】",null,"※料金は、税込表示"]
[null,"欠食については朝食＠５００円を差し引きさせていただきます。（Ｓタイプを除く）"]
[null,"タイプ記号",null,null,"食事条件",null,null,null,null,"料金",null,null,null,"タイプ記号",null,null,"申込可能人員"]
[null,"富山市内\n（洋室タイプ）",null,null,"1泊朝食",null,null,null,null,10000,null,null,null,"S－２",null,null,"１００名"]
[null,null,null,null,"1泊2食",null,null,null,null,10000,null,null,null,"Ａ－1",null,null,"３７０名"]
[null,null,null,null,"1泊朝食",null,null,null,null,8500,null,null,null,"S－２"]
[null,"富山市内\n（洋室タイプ）",null,null,"1泊2食",null,null,null,null,9000,null,null,null,"B－１",null,null,"４０名"]
[null,null,null,null,"1泊朝食",null,null,null,null,8500,null,null,null,"B－２",null,null,"１００名"]
[null,"　注）大会当日、夏休み期間中ですし、富山市内では大きなイベントが実施されるため、"]
[null,"　　　富山市内および周辺の宿泊客室の空室状況が非常に厳しくなっております。"]
[null,"　　　そのため、ご予約は先着順かつ上限に達し次第受付を終了させていただきますので、予めご了承下さい。"]
[null,"※ホテル～駐車場までの交通費は各チーム負担となります。"]
[null,"※駐車料金は各宿泊施設へ現金にてお支払下さい。"]
[null,"※朝食は6:00～7:00でお受けできます。（施設によって異なります）"]
[null,"【弁当】",null,"※料金は、税込表示　お茶無し"]
[null,"日付",null,null,"料金",null,null,"受け渡し場所"]
[null,"８月２１日（土）",null,null,"７００円",null,null,"富山県陸上競技場内（弁当引渡所）"]
[]
[null,"８月２２日（日）",null,null,"７００円",null,null,"富山県陸上競技場内（弁当引渡所）"]
[]
[null,"２．申込方法"]
[null,null,null,"※必ず熟読して、お申込をお願い致します。"]
[]
[null,"・お申込につきましては、別紙申込書に宿泊希望タイプ記号を第3希望までご記入願います。"]
[null,"　　注）第3希望まで記入が完了していない申込書は対応致しかねます。"]
[null,"・ご利用いただく宿泊施設名につきましては、予約確認書にて連絡させていただきます。"]
[null,"　（同一の学校・同一の所属を同じホテルでご利用いただくために、こちらで調整を行います。）"]
[null,"･別紙申込用紙に必要事項をご記入の上、ＦＡＸにてお送り下さい。"]
[null,"　申込締切日は、７月３０日（金）、１８：００までにお願い致します。"]
[null,"　　注）宿泊客室に限りがございますので、選手・監督コーチの申込を優先させて頂きます。"]
[null,"　　注）宿泊客室に限りがございますので、上記以外のご案内になる可能性もあることを、予めご了承下さい。"]
[null,"　　注）宿泊客室に限りがございますので、ご希望通りの部屋タイプ及び食事の手配が出来ないこともございます。ご了承下さい。"]
[]
[null,"３．予約確認書及び請求書について"]
[null,"　　８月１２日（月）以降に予約確認書・請求書をお送り致します。"]
[null,"　　※お支払いにつきましては８月３１日（火）までに銀行振込みにてお願い致します。"]
[null,"　　（振込金受取書を領収書とさせて頂きます）なお、振込手数料はお客様負担とさせて頂きます。）"]
[]
[null,"４．変更・取消しについて"]
[null,"・変更・取消は、必ずＦＡＸにてお願いします。"]
[null,"・取消料につきましては、下記の表の通りとなります。予めご了承下さい。"]
[null,"・取消・変更作業は、平日の営業時間のみとさせていただきます。（土日祝の作業につきましては、休み明けの平日受付となります。）"]
[null,"宿泊",null,"８／１６（月）まで",null,null,"８／１８（水）まで",null,null,"８／１９（木）前日",null,null,"８／２０（金）以降"]
[null,null,null,"無料",null,null,"宿泊代金の20%",null,null,"宿泊代金の50%",null,null,"宿泊代金の100%"]
[null,"弁当",null,null,null,null,null,null,null,"申込前日１７時まで",null,null,"申込前日１７時以降"]
[null,null,null,null,null,null,null,null,null,"無料",null,null,"全額100%"]
[null,"・お支払い後に変更取り消しが生じた場合は、大会終了後指定の銀行口座にご返金致します。"]
[]
[null,"（有）タイセイツアーズ",null,null,null,null,null,null,null,null,null,null,"　営業時間　　",null,"平日","９：３０～１７：４５"]
[null,"　〒９３９－２３７６　　富山市八尾町福島２５１",null,null,null,null,null,null,null,null,null,"※土・日・祝日は休業です。"]
[null,"　℡：０７６－４５５－８２１１　FAX：０７６－４５５－８２２２",null,null,null,null,null,null,null,null,null,"※８／１４～８／１６は、お盆休みです。"]

{"sheet":"【様式5-2】宿泊申込書","index":8,"n_rows":51,"n_cols":22,"rows_kept":51,"cut":false,"hidden":false,"merged":[[50,1,53,6],[16,14,16,15],[16,16,16,18],[17,14,17,15],[17,16,17,18],[22,2,22,7],[16,10,18,13],[20,8,20,9],[20,10,20,13],[20,2,20,7],[33,2,33,7],[34,2,34,7],[35,2,35,7],[25,2,25,7],[26,2,26,7],[27,2,27,7],[28,2,28,7],[21,2,21,7],[40,2,40,7],[41,2,41,7],[30,2,30,7],[31,2,31,7],[32,2,32,7],[40,8,40,9],[1,18,1,21],[1,13,1,17],[46,17,46,18],[48,1,48,6],[49,1,49,6],[29,2,29,7],[24,2,24,7],[46,20,46,21],[2,5,2,19],[16,8,18,9],[42,2,42,7],[43,2,43,7],[44,2,44,7],[16,2,18,7],[21,8,21,9],[22,8,22,9],[23,8,23,9],[24,8,24,9],[25,8,25,9],[26,8,26,9],[36,2,36,7],[37,2,37,7],[38,2,38,7],[39,2,39,7],[41,8,41,9],[27,8,27,9],[28,8,28,9],[29,8,29,9],[30,8,30,9],[42,8,42,9],[43,8,43,9],[44,8,44,9],[33,8,33,9],[34,8,34,9],[35,8,35,9],[36,8,36,9],[37,8,37,9],[38,8,38,9],[31,8,31,9],[32,8,32,9],[45,10,45,13],[46,10,46,13],[16,20,18,21],[24,20,24,21],[25,20,25,21],[26,20,26,21],[27,20,27,21],[28,20,28,21],[29,20,29,21],[30,20,30,21],[39,10,39,13],[40,10,40,13],[41,10,41,13],[42,10,42,13],[43,10,43,13],[44,10,44,13],[33,10,33,13],[34,10,34,13],[35,10,35,13],[36,10,36,13],[37,10,37,13],[38,10,38,13],[27,10,27,13],[28,10,28,13],[45,20,45,21],[4,20,6,21],[3,20,3,21],[3,1,3,18],[4,1,5,18],[7,1,7,4],[9,1,9,4],[11,1,11,4],[37,20,37,21],[38,20,38,21],[45,1,46,9],[19,2,19,7],[19,8,19,9],[19,10,19,13],[40,20,40,21],[41,20,41,21],[42,20,42,21],[31,20,31,21],[32,20,32,21],[33,20,33,21],[16,1,18,1],[19,20,19,21],[20,20,20,21],[21,20,21,21],[13,1,13,4],[13,14,13,20],[15,12,15,21],[15,1,15,11],[43,20,43,21],[44,20,44,21],[39,20,39,21],[34,20,34,21],[35,20,35,21],[36,20,36,21],[22,20,22,21],[23,20,23,21],[21,10,21,13],[22,10,22,13],[23,10,23,13],[23,2,23,7],[29,10,29,13],[30,10,30,13],[31,10,31,13],[32,10,32,13],[24,10,24,13],[25,10,25,13],[26,10,26,13],[39,8,39,9]]}
[]
[null,"タイセイツアーズ　第６５回　北陸陸上競技選手権大会係　行き",null,null,null,null,null,null,null,null,null,null,null,"ＦＡＸ　０７６－４５５－８２２２",null,null,null,null,"令和３年　　　　月　　　　　日"]
[]
[null,"　第６５回　北陸陸上競技選手権大会　兼第１０６回日本陸上競技選手権大会地域予選会  ",null,null,null,null,null,null,null,null,null,null,null,null,null,null,null,null,null,null,"県　　名"]
[null,"宿　　泊　　申　　込　　書"]
[]
[]
[null,"郵送先・所在地",null,null,null,"〒"]
[]
[null,"申込責任者",null,null,null,null,null,null,null,null,null,null,null,null,"☎","（　　　　　　　　）　　　　　　　－"]
[]
[null,"連絡責任者",null,null,null,null,null,null,null,null,null,null,null,null,"Ｆａｘ","（　　　　　　　　）　　　　　　　－"]
[]
[null,"携帯電話",null,null,null,null,null,null,null,null,null,null,null,null,"宿泊期日別人員内訳（○をご記入ください。）\n＊宿泊・朝食・夕食欄に○をご記入ください。"]
[]
[null,"宿泊希望タイプ記号",null,null,null,null,null,null,null,null,null,null,"第一希望【　　　　　】・　第二希望【　　　　　】・　第三希望【　　　　　】"]
[null,null,"氏　　　　　名",null,null,null,null,null,"性　別",null,"区　分",null,null,null,"2021-08-20",null,"2021-08-21",null,null,"2021-08-22","備　　考"]
[null,null,null,null,null,null,null,null,null,null,null,null,null,null,"（金）",null,"（土）",null,null,"（日）"]
[null,null,null,null,null,null,null,null,null,null,null,null,null,null,"夕食","宿泊","朝食","夕食","宿泊","朝食"]
[null,"見本","富山太郎",null,null,null,null,null,"男",null,"選手",null,null,null,"○","○","○","○","○","○","シングル希望"]
[null,1,null,null,null,null,null,null,"男　・　女",null,"引率・選手・他"]
[null,2]
[null,3]
[null,4]
[null,5]
[null,6]
[null,7]
[null,8]
[null,9]
[null,10]
[null,11]
[null,12]
[null,13]
[null,14]
[null,15]
[null,16]
[null,17]
[null,18]
[null,19]
[null,20]
[null,21]
[null,22]
[null,23]
[null,24]
[null,25]
[null,"＊ご人数が多い場合は申込書をコピーして使ってください。",null,null,null,null,null,null,null,null,"合　計　欄"]
[null,null,null,null,null,null,null,null,null,null,"弁当注文数",null,null,null,null,null,"２１日","個",null,"２２日","個"]
[]
[null,"到着予定時刻",null,null,null,null,null,"令和３年８月",null,null,null,null,"日",null,"午後",null,"時",null,"分"]
[null,"来車の有無",null,null,null,null,null,"有",null,"(大型バス",null,null,null,null,null,"台・マイクロバス",null,null,"台・自家用車",null,null,"台）"]
[null,"希望・要望",null,null,null,null,null,"※　ホテルの場合、夕食がホテル外になる場合もあります。"]

{"sheet":"【様式5-3】領収書依頼書","index":9,"n_rows":35,"n_cols":4,"rows_kept":35,"cut":false,"hidden":false,"merged":[[14,0,14,2],[14,3,14,8],[0,0,1,8],[2,0,3,8],[5,0,5,8],[10,3,10,8],[11,3,11,8],[13,0,13,2],[13,3,13,8]]}
["第６５回北陸陸上競技選手権大会"]
[]
["領収書依頼書"]
[]
[]
["領収書が必要な団体様は事前に下記内容をご記入の上、事前に弊社まで郵送・ＦＡＸ・Ｅ－Ｍａｉｌにて"]
["お送りいただけますでしょうか。"]
["お忙しい中、大変申し訳ございませんがご協力お願い致します。"]
[]
["（有）タイセイツアーズ　　松本　宛　"]
["　",null,null,"FAX：０７６－４５５－８２２２（TEL：０７６－４５５－８２１１）"]
[null,null,null,"E-Mail：　taｉｓｅｉｃｏ＠ｔｏｐａｚ．oｃｎ．nｅ．jｐ"]
[]
["団体名"]
["監督氏名（引率責任者名）"]
[]
["①宛名　　　　　　　　　　　　　　　　　　様"]
["   金額　　　　　　　　　　　　　　　　　　円"]
["   但し書　　　　　　　　　　　　　　　　　　　　　　　　　　　　　として　　　　　　　　　　　　　　　　　　　　　　"]
[]
["②宛名　　　　　　　　　　　　　　　　　　様"]
["   金額　　　　　　　　　　　　　　　　　　円"]
["   但し書　　　　　　　　　　　　　　　　　　　　　　　　　　　　　として　　　　　　　　　　　　　　　　　　　　　　"]
[]
["③宛名　　　　　　　　　　　　　　　　　　様"]
["   金額　　　　　　　　　　　　　　　　　　円"]
["   但し書　　　　　　　　　　　　　　　　　　　　　　　　　　　　　として　　　　　　　　　　　　　　　　　　　　　　"]
[]
["④宛名　　　　　　　　　　　　　　　　　　様"]
["   金額　　　　　　　　　　　　　　　　　　円"]
["   但し書　　　　　　　　　　　　　　　　　　　　　　　　　　　　　として　　　　　　　　　　　　　　　　　　　　　　"]
[]
["⑤宛名　　　　　　　　　　　　　　　　　　様"]
["   金額　　　　　　　　　　　　　　　　　　円"]
["   但し書　　　　　　　　　　　　　　　　　　　　　　　　　　　　　として　　　　　　　　　　　　　　　　　　　　　　"]

{"sheet":"【様式5-4】ホテルリスト富山編 ","index":10,"n_rows":20,"n_cols":7,"rows_kept":20,"cut":false,"hidden":false,"merged":[[18,0,19,0],[18,1,19,1],[18,2,19,2],[18,6,19,6],[11,1,12,1],[11,2,12,2],[11,4,12,4],[11,6,12,6],[13,1,14,1],[13,2,14,2],[13,4,14,4],[13,6,14,6],[7,1,8,1],[7,2,8,2],[7,4,8,4],[7,6,8,6],[9,1,10,1],[9,2,10,2],[9,4,10,4],[9,6,10,6],[3,1,4,1],[3,2,4,2],[3,4,4,4],[3,6,4,6],[5,1,6,1],[5,2,6,2],[5,4,6,4],[5,6,6,6]]}
["宿泊地区","宿泊地区","施設名","ホテル条件","部屋タイプ","1人あたりの料金","会場まで距離"]
["S２","富山駅北","オークスカナルパークホテル","１泊朝食付き税込み","シングル・ツイン","１０、０００円","９．８Ｋｍ"]
["S２","富山駅前","アパヴィラホテル<富山駅前>","１泊朝食付き税込み","シングル","９，５００円","９．１Ｋｍ"]
["Ａ１","富山駅前","アパホテル<富山駅前>","１泊２食付き税込み","シングル・ツイン","１０、０００円","９．８Ｋｍ"]
["Ａ２",null,null,"１泊朝食付き税込み",null,"８，５００円"]
["Ａ１","富山駅前","富山地鉄ホテル","１泊２食付き税込み","シングル・ツイン","１０、０００円","９．８Ｋｍ"]
["Ａ２",null,null,"１泊朝食付き税込み",null,"８，５００円"]
["Ａ１","富山インター付近","ホテルルートイン富山インター","１泊２食付き税込み","シングル・ツイン","１０、０００円","４．０Ｋｍ"]
["Ａ２",null,null,"１泊朝食付き税込み",null,"８，５００円"]
["Ａ１","富山郊外","アパホテル<富山>","１泊２食付き税込み","シングル・ツイン","１０、０００円","１１．７Ｋｍ"]
["Ａ２",null,null,"１泊朝食付き税込み",null,"８，５００円"]
["Ａ１","富山駅前","ホテルルートイン富山駅前","１泊２食付き税込み","シングル・ツイン","１０、０００円","９．１Ｋｍ"]
["Ａ２",null,null,"１泊朝食付き税込み",null,"８，５００円"]
["Ａ１","富山駅北","とやま自遊館","１泊２食付き税込み","シングル・ツイン","１０、０００円","９．８Ｋｍ"]
["Ａ２",null,null,"１泊朝食付き税込み",null,"８，５００円"]
["Ａ２","富山駅前","富山マンテンホテル","１泊朝食付き税込み","シングル・ツイン","８，５００円","９．１Ｋｍ"]
["Ｂ２","富山駅前","ホテルプライム富山","１泊朝食付き税込み","シングル・ツイン","８，０００円","９．１Ｋｍ"]
["Ｂ１","富山駅前","ホテル祥園","１泊２食付き税込み","シングル・ツイン","９，０００円","９．１Ｋｍ"]
["Ｂ２","富山駅前","東横イン富山駅新幹線口Ⅱ","１泊朝食付き税込み","シングル","８，０００円","９．１Ｋｍ"]
[null,null,null,"１泊朝食付き税込み","ツイン","７，０００円"]